BEGIN:VCALENDAR
VERSION:2.0
PRODID:-//Club Alpino Italiano - Sezione di Pianezza - ECPv6.2.4//NONSGML v1.0//EN
CALSCALE:GREGORIAN
METHOD:PUBLISH
X-ORIGINAL-URL:https://caipianezza.it
X-WR-CALDESC:Eventi per Club Alpino Italiano - Sezione di Pianezza
REFRESH-INTERVAL;VALUE=DURATION:PT1H
X-Robots-Tag:noindex
X-PUBLISHED-TTL:PT1H
BEGIN:VTIMEZONE
TZID:Europe/Rome
BEGIN:DAYLIGHT
TZOFFSETFROM:+0100
TZOFFSETTO:+0200
TZNAME:CEST
DTSTART:20230326T010000
END:DAYLIGHT
BEGIN:STANDARD
TZOFFSETFROM:+0200
TZOFFSETTO:+0100
TZNAME:CET
DTSTART:20231029T010000
END:STANDARD
END:VTIMEZONE
BEGIN:VEVENT
DTSTART;VALUE=DATE:20230722
DTEND;VALUE=DATE:20230724
DTSTAMP:20260424T091538
CREATED:20230103T113318Z
LAST-MODIFIED:20230110T014828Z
UID:982-1689984000-1690156799@caipianezza.it
SUMMARY:Week End in Val Varaita (itinerari da definire)
DESCRIPTION:Week end in Val Varaita con 2 escursioni al cospetto del Monviso. Il pernottamento avverrà in rifugio. Gli itinerari e le modalità di iscrizione e i relativi costi verranno comunicati successivamente\, in ogni caso si tratterà di escursioni in alta quota con dislivelli abbastanza consistenti e discese di difficoltà medio-alta.
URL:https://caipianezza.it/evento/week-end-in-val-varaita-itinerari-da-definire/
CATEGORIES:Mountain Bike
END:VEVENT
BEGIN:VEVENT
DTSTART;VALUE=DATE:20230723
DTEND;VALUE=DATE:20230724
DTSTAMP:20260424T091538
CREATED:20230426T210539Z
LAST-MODIFIED:20230718T213325Z
UID:1511-1690070400-1690156799@caipianezza.it
SUMMARY:Monte Palon
DESCRIPTION:Difficoltà: EE\nQuota partenza: 2000 m\nQuota arrivo: 2965 m\nDislivello: 965 m\nRitrovo: ore 7.00 sede CAI Pianezza\, ore 7.20 Eurospar di Villardora (coordinate: 45.10161171860675\, 7.39287597361832) \n Descrizione: Dalla carrozzabile della Riposa si raggiunge l’Alpe Arcella a 2000 m (posteggi esigui e in caso di pioggia strada molto insidiosa per il fango). Da qui su buon sentiero ci si incammina verso est in direzione delle Rocce dei Tre Cresti 2386 m . Si  transita a monte di queste\, per poi voltare decisamente a sinistra e per la larga dorsale\, dapprima prativa e poi detritica\, raggiungere la cima del Monte Palon 2965 m.\nLocalità di partenza: Alpe Arcella\nOrganizzatori :\nGianfranco Contin –  gfcontin@gmail.com – cell. 3358278961\nGuido Pettovello  – guyfriul@alice.it – cell. 3711578563
URL:https://caipianezza.it/evento/monte-palon/
CATEGORIES:Escursionismo
END:VEVENT
END:VCALENDAR