BEGIN:VCALENDAR
VERSION:2.0
PRODID:-//Club Alpino Italiano - Sezione di Pianezza - ECPv6.2.4//NONSGML v1.0//EN
CALSCALE:GREGORIAN
METHOD:PUBLISH
X-WR-CALNAME:Club Alpino Italiano - Sezione di Pianezza
X-ORIGINAL-URL:https://caipianezza.it
X-WR-CALDESC:Eventi per Club Alpino Italiano - Sezione di Pianezza
REFRESH-INTERVAL;VALUE=DURATION:PT1H
X-Robots-Tag:noindex
X-PUBLISHED-TTL:PT1H
BEGIN:VTIMEZONE
TZID:Europe/Rome
BEGIN:DAYLIGHT
TZOFFSETFROM:+0100
TZOFFSETTO:+0200
TZNAME:CEST
DTSTART:20230326T010000
END:DAYLIGHT
BEGIN:STANDARD
TZOFFSETFROM:+0200
TZOFFSETTO:+0100
TZNAME:CET
DTSTART:20231029T010000
END:STANDARD
END:VTIMEZONE
BEGIN:VEVENT
DTSTART;VALUE=DATE:20231001
DTEND;VALUE=DATE:20231002
DTSTAMP:20260424T001029
CREATED:20230426T213708Z
LAST-MODIFIED:20230920T130734Z
UID:1517-1696118400-1696204799@caipianezza.it
SUMMARY:Monte Giassez
DESCRIPTION:Difficoltà: E\nQuota partenza: 1732 m\nQuota vetta: 2588 m\nDislivello: 856 m\nRitrovo: sede CAI Pianezza ore 7.50 oppure Cesana ore 9.10\nDescrizione: Escursione panoramica che partendo dalla Valle di Thures\, a Rhuilles ( 1732 m)\, sale nel bosco di larici e abeti\, finché il paesaggio inizia a mutare ed il bosco lascia spazio agli arbusti. Si oltrepassano alcuni ricoveri militari a quota  2427 m\, si percorre poi l’ultimo tratto dell’itinerario godendo del bellissimo panorama sottostante fino alla vetta (2588 m).\nMateriale: da escursionismo\nLocalità di partenza: Rhuilles\, Bousson\nContatti: Elisabetta Prunello elisabettaprunello@alice.it; Laura Prunello laura.prunello@gmail.com
URL:https://caipianezza.it/evento/monte-giassez/
CATEGORIES:Escursionismo
END:VEVENT
END:VCALENDAR