BEGIN:VCALENDAR
VERSION:2.0
PRODID:-//Club Alpino Italiano - Sezione di Pianezza - ECPv6.2.4//NONSGML v1.0//EN
CALSCALE:GREGORIAN
METHOD:PUBLISH
X-WR-CALNAME:Club Alpino Italiano - Sezione di Pianezza
X-ORIGINAL-URL:https://caipianezza.it
X-WR-CALDESC:Eventi per Club Alpino Italiano - Sezione di Pianezza
REFRESH-INTERVAL;VALUE=DURATION:PT1H
X-Robots-Tag:noindex
X-PUBLISHED-TTL:PT1H
BEGIN:VTIMEZONE
TZID:Europe/Rome
BEGIN:DAYLIGHT
TZOFFSETFROM:+0100
TZOFFSETTO:+0200
TZNAME:CEST
DTSTART:20230326T010000
END:DAYLIGHT
BEGIN:STANDARD
TZOFFSETFROM:+0200
TZOFFSETTO:+0100
TZNAME:CET
DTSTART:20231029T010000
END:STANDARD
END:VTIMEZONE
BEGIN:VEVENT
DTSTART;VALUE=DATE:20231021
DTEND;VALUE=DATE:20231022
DTSTAMP:20260424T000959
CREATED:20230103T150408Z
LAST-MODIFIED:20230202T234050Z
UID:1004-1697846400-1697932799@caipianezza.it
SUMMARY:Prarotto
DESCRIPTION:Lunghezza: 32 km \nDislivello: 1.100 m \nDifficoltà: BC / BC \nDescrizione: Grande classica della Bassa Val di Susa\, che presenta numerose varianti di discesa. La salita avverrà dal versante di Bruzolo passando per la frazione Bigiardi da dove prima su sterrato e poi su sentiero raggiungeremo Maffiotto e Prarotto. Da qui inizieremo la discesa\, che sarà interamente su single track di media difficoltà.
URL:https://caipianezza.it/evento/prarotto/
LOCATION:Borgone (TO)
CATEGORIES:Mountain Bike
END:VEVENT
END:VCALENDAR