BEGIN:VCALENDAR
VERSION:2.0
PRODID:-//Club Alpino Italiano - Sezione di Pianezza - ECPv6.2.4//NONSGML v1.0//EN
CALSCALE:GREGORIAN
METHOD:PUBLISH
X-ORIGINAL-URL:https://caipianezza.it
X-WR-CALDESC:Eventi per Club Alpino Italiano - Sezione di Pianezza
REFRESH-INTERVAL;VALUE=DURATION:PT1H
X-Robots-Tag:noindex
X-PUBLISHED-TTL:PT1H
BEGIN:VTIMEZONE
TZID:Europe/Rome
BEGIN:DAYLIGHT
TZOFFSETFROM:+0100
TZOFFSETTO:+0200
TZNAME:CEST
DTSTART:20230326T010000
END:DAYLIGHT
BEGIN:STANDARD
TZOFFSETFROM:+0200
TZOFFSETTO:+0100
TZNAME:CET
DTSTART:20231029T010000
END:STANDARD
END:VTIMEZONE
BEGIN:VEVENT
DTSTART;VALUE=DATE:20231022
DTEND;VALUE=DATE:20231023
DTSTAMP:20260424T001523
CREATED:20231008T123421Z
LAST-MODIFIED:20231008T124454Z
UID:2018-1697932800-1698019199@caipianezza.it
SUMMARY:Castagnata a Mollar dei Franchi
DESCRIPTION:Saremo ospiti dell’associazione Cavalli e natura (casetta di fronte alla chiesa).\nRitrovo: Sede CAI ore 8.00; Mollar dei Franchi ore 9.00\nEscursione: accompagnati da una guida naturalistica locale\, faremo un’escursione nei dintorni della borgata.\nMTB: giro alla scoperta dei dintorni. Per maggiori informazioni contattate i responsabili del gruppo MTB.\nAbbigliamento adeguato alle attività e alle temperature della stagione.\nA pranzo polenta e castagne\nI tavoli e le sedie verranno forniti dall’associazione che ci ospita.\nChiediamo ai partecipanti di portarsi i piatti\, i bicchieri e le posate necessarie per il pranzo. Possibilmente non usa e getta.\nLa castagnata avrà luogo anche in caso di maltempo\, c’è una bellissima tettoia che ci proteggerà. Ma in tal caso non verranno svolte le attività di escursionsmo e MTB \nCome arrivare: la località di Mollar dei Franchi si raggiunge da Giaveno. Alla rotonda in centro paese prendere in direzione Coazze. Al primo semaforo prendere via IV Novembre\, proseguire sulla Strada provinciale 227 che dopo aver attraversato il Sangone porta alla borgata Mollar dei Franchi. Il parcheggio si trova sulla destra poco dopo la chiesa.
URL:https://caipianezza.it/evento/castagnata-a-mollar-dei-franchi/
LOCATION:Mollar dei Franchi\, Giaveno\, Italia
CATEGORIES:Attività sociali
END:VEVENT
END:VCALENDAR