BEGIN:VCALENDAR
VERSION:2.0
PRODID:-//Club Alpino Italiano - Sezione di Pianezza - ECPv6.2.4//NONSGML v1.0//EN
CALSCALE:GREGORIAN
METHOD:PUBLISH
X-WR-CALNAME:Club Alpino Italiano - Sezione di Pianezza
X-ORIGINAL-URL:https://caipianezza.it
X-WR-CALDESC:Eventi per Club Alpino Italiano - Sezione di Pianezza
REFRESH-INTERVAL;VALUE=DURATION:PT1H
X-Robots-Tag:noindex
X-PUBLISHED-TTL:PT1H
BEGIN:VTIMEZONE
TZID:Europe/Rome
BEGIN:DAYLIGHT
TZOFFSETFROM:+0100
TZOFFSETTO:+0200
TZNAME:CEST
DTSTART:20230326T010000
END:DAYLIGHT
BEGIN:STANDARD
TZOFFSETFROM:+0200
TZOFFSETTO:+0100
TZNAME:CET
DTSTART:20231029T010000
END:STANDARD
END:VTIMEZONE
BEGIN:VEVENT
DTSTART;VALUE=DATE:20231214
DTEND;VALUE=DATE:20231215
DTSTAMP:20260423T200013
CREATED:20231126T194856Z
LAST-MODIFIED:20231129T141655Z
UID:2116-1702512000-1702598399@caipianezza.it
SUMMARY:"Serata Rodi" a cura di Giovanni Gili
DESCRIPTION:Serata fotografica relativa alla settimana escursionistica a Rodi di inizio ottobre. \nAl termine presentazione della settimana escursionistica alle Isole Eolie di maggio 2024. \nIngresso Libero \nOre 21.15
URL:https://caipianezza.it/evento/serata-rodi-a-cura-di-giovanni-gili/
LOCATION:CAI Pianezza\, Via Moncenisio 1\, Pianezza\, 10044\, Italia
CATEGORIES:Attività sociali
END:VEVENT
END:VCALENDAR