BEGIN:VCALENDAR
VERSION:2.0
PRODID:-//Club Alpino Italiano - Sezione di Pianezza - ECPv6.2.4//NONSGML v1.0//EN
CALSCALE:GREGORIAN
METHOD:PUBLISH
X-ORIGINAL-URL:https://caipianezza.it
X-WR-CALDESC:Eventi per Club Alpino Italiano - Sezione di Pianezza
REFRESH-INTERVAL;VALUE=DURATION:PT1H
X-Robots-Tag:noindex
X-PUBLISHED-TTL:PT1H
BEGIN:VTIMEZONE
TZID:Europe/Rome
BEGIN:DAYLIGHT
TZOFFSETFROM:+0100
TZOFFSETTO:+0200
TZNAME:CEST
DTSTART:20230326T010000
END:DAYLIGHT
BEGIN:STANDARD
TZOFFSETFROM:+0200
TZOFFSETTO:+0100
TZNAME:CET
DTSTART:20231029T010000
END:STANDARD
END:VTIMEZONE
BEGIN:VEVENT
DTSTART;VALUE=DATE:20231221
DTEND;VALUE=DATE:20231222
DTSTAMP:20260423T195300
CREATED:20230125T151256Z
LAST-MODIFIED:20231029T170747Z
UID:1179-1703116800-1703203199@caipianezza.it
SUMMARY:Auguri di Natale
DESCRIPTION:Grande Tombolata con ricchi premi \nSeguiranno panettone e cioccolata calda.
URL:https://caipianezza.it/evento/auguri-di-natale/
LOCATION:CAI Pianezza\, Via Moncenisio 1\, Pianezza\, 10044\, Italia
CATEGORIES:Attività sociali
END:VEVENT
END:VCALENDAR