BEGIN:VCALENDAR
VERSION:2.0
PRODID:-//Club Alpino Italiano - Sezione di Pianezza - ECPv6.2.4//NONSGML v1.0//EN
CALSCALE:GREGORIAN
METHOD:PUBLISH
X-ORIGINAL-URL:https://caipianezza.it
X-WR-CALDESC:Eventi per Club Alpino Italiano - Sezione di Pianezza
REFRESH-INTERVAL;VALUE=DURATION:PT1H
X-Robots-Tag:noindex
X-PUBLISHED-TTL:PT1H
BEGIN:VTIMEZONE
TZID:Europe/Rome
BEGIN:DAYLIGHT
TZOFFSETFROM:+0100
TZOFFSETTO:+0200
TZNAME:CEST
DTSTART:20240331T010000
END:DAYLIGHT
BEGIN:STANDARD
TZOFFSETFROM:+0200
TZOFFSETTO:+0100
TZNAME:CET
DTSTART:20241027T010000
END:STANDARD
END:VTIMEZONE
BEGIN:VEVENT
DTSTART;VALUE=DATE:20240222
DTEND;VALUE=DATE:20240223
DTSTAMP:20260423T155348
CREATED:20231228T221247Z
LAST-MODIFIED:20240216T104539Z
UID:2240-1708560000-1708646399@caipianezza.it
SUMMARY:Bruno Zaro ci parla di "Pecore\, vino e zafferano…"
DESCRIPTION:“Tre cammini\, un unico viaggio lungo 160 anni: in Val de Varri e Valle del Salto in Abruzzo e Alto Lazio sul Cammino dei Briganti\, in Val Borbera nell’alessandrino sul Cammino dei Ribelli e in Val di Susa sulla Via Francigena. Tre luoghi differenti dove ho incontrato i resistenti di oggi che non si danno per sconfitti e che\, con nuovi mezzi e nuove strategie\, orgogliosamente solcano lo stesso mare\, perennemente in tempesta\, dei disobbedienti di ieri. Tutti loro hanno accolto il mio andare e\, attraverso i loro racconti\, mi hanno dato la possibilità di ascoltare storie del passato e accadimenti del presente. Avvenimenti e realtà che io\, come un cantastorie\, ho raccolto e raccontato a mia volta.” (Bruno Zaro) \nIngresso libero ore 21.15
URL:https://caipianezza.it/evento/bruno-zaro-ci-parla-di-pecore-vino-e-zafferano/
LOCATION:CAI Pianezza\, Via Moncenisio 1\, Pianezza\, 10044\, Italia
CATEGORIES:Attività sociali
END:VEVENT
END:VCALENDAR