BEGIN:VCALENDAR
VERSION:2.0
PRODID:-//Club Alpino Italiano - Sezione di Pianezza - ECPv6.2.4//NONSGML v1.0//EN
CALSCALE:GREGORIAN
METHOD:PUBLISH
X-ORIGINAL-URL:https://caipianezza.it
X-WR-CALDESC:Eventi per Club Alpino Italiano - Sezione di Pianezza
REFRESH-INTERVAL;VALUE=DURATION:PT1H
X-Robots-Tag:noindex
X-PUBLISHED-TTL:PT1H
BEGIN:VTIMEZONE
TZID:Europe/Rome
BEGIN:DAYLIGHT
TZOFFSETFROM:+0100
TZOFFSETTO:+0200
TZNAME:CEST
DTSTART:20240331T010000
END:DAYLIGHT
BEGIN:STANDARD
TZOFFSETFROM:+0200
TZOFFSETTO:+0100
TZNAME:CET
DTSTART:20241027T010000
END:STANDARD
END:VTIMEZONE
BEGIN:VEVENT
DTSTART;VALUE=DATE:20240224
DTEND;VALUE=DATE:20240226
DTSTAMP:20260423T155329
CREATED:20231129T232422Z
LAST-MODIFIED:20231201T231240Z
UID:2138-1708732800-1708905599@caipianezza.it
SUMMARY:Queyras (2 giorni)
DESCRIPTION:Ritrovo: da definire\nDifficoltà: BS\nMateriale: ARTVA\, pala\, sonda\, rampant\, ramponi \nDescrizione: le gite non sono ancora definite ma nel Queyras avremo solo l’imbarazzo della scelta
URL:https://caipianezza.it/evento/queyras-2-giorni/
CATEGORIES:Sci Alpinismo
END:VEVENT
BEGIN:VEVENT
DTSTART;VALUE=DATE:20240225
DTEND;VALUE=DATE:20240226
DTSTAMP:20260423T155329
CREATED:20240119T221758Z
LAST-MODIFIED:20240219T124801Z
UID:2317-1708819200-1708905599@caipianezza.it
SUMMARY:Lago Nero con le ciaspole
DESCRIPTION:Difficoltà: MR\nQuota partenza: 1470 m\nQuota destinazione: 2020 m\nDislivello: 550 m\nRitrovo: 7.30 sede CAI; 8.30 Susa\nDescrizione: Da Bousson si lascia quasi subito la carrareccia per il percorso nel bosco\, che porta all’ambiente aperto teatro e culla dello sci\, il Lago Nero e la Capanna Mautino\nMateriale: ciaspole\, Artva\, pala\, sonda\, consigliati ramponcini\nLocalità di partenza: Bousson\nContatti: alberto.lovera.2009@gmail.com\, luca.pochettino@gmail.com
URL:https://caipianezza.it/evento/lago-nero-2/
CATEGORIES:Racchette da neve
END:VEVENT
END:VCALENDAR