BEGIN:VCALENDAR
VERSION:2.0
PRODID:-//Club Alpino Italiano - Sezione di Pianezza - ECPv6.2.4//NONSGML v1.0//EN
CALSCALE:GREGORIAN
METHOD:PUBLISH
X-ORIGINAL-URL:https://caipianezza.it
X-WR-CALDESC:Eventi per Club Alpino Italiano - Sezione di Pianezza
REFRESH-INTERVAL;VALUE=DURATION:PT1H
X-Robots-Tag:noindex
X-PUBLISHED-TTL:PT1H
BEGIN:VTIMEZONE
TZID:Europe/Rome
BEGIN:DAYLIGHT
TZOFFSETFROM:+0100
TZOFFSETTO:+0200
TZNAME:CEST
DTSTART:20240331T010000
END:DAYLIGHT
BEGIN:STANDARD
TZOFFSETFROM:+0200
TZOFFSETTO:+0100
TZNAME:CET
DTSTART:20241027T010000
END:STANDARD
END:VTIMEZONE
BEGIN:VEVENT
DTSTART;VALUE=DATE:20240321
DTEND;VALUE=DATE:20240322
DTSTAMP:20260423T141715
CREATED:20231228T222918Z
LAST-MODIFIED:20240312T165510Z
UID:2244-1710979200-1711065599@caipianezza.it
SUMMARY:"Scialpinismo" Dagli albori al terzo millennio\, a cura di Carlo Crovella
DESCRIPTION:Carlo\, già alcuni anni fa ospite della nostra Sezione\, ci presenta il suo libro\, che ha inaugurato la collana dedicata alla Storia dell’Alpinismo pubblicata dal Corriere della Sera \nIngresso libero ore 21.15
URL:https://caipianezza.it/evento/la-storia-dello-sci-alpinismo-a-cura-di-carlo-crovella/
LOCATION:CAI Pianezza\, Via Moncenisio 1\, Pianezza\, 10044\, Italia
CATEGORIES:Attività sociali
END:VEVENT
END:VCALENDAR