BEGIN:VCALENDAR
VERSION:2.0
PRODID:-//Club Alpino Italiano - Sezione di Pianezza - ECPv6.2.4//NONSGML v1.0//EN
CALSCALE:GREGORIAN
METHOD:PUBLISH
X-ORIGINAL-URL:https://caipianezza.it
X-WR-CALDESC:Eventi per Club Alpino Italiano - Sezione di Pianezza
REFRESH-INTERVAL;VALUE=DURATION:PT1H
X-Robots-Tag:noindex
X-PUBLISHED-TTL:PT1H
BEGIN:VTIMEZONE
TZID:Europe/Rome
BEGIN:DAYLIGHT
TZOFFSETFROM:+0100
TZOFFSETTO:+0200
TZNAME:CEST
DTSTART:20240331T010000
END:DAYLIGHT
BEGIN:STANDARD
TZOFFSETFROM:+0200
TZOFFSETTO:+0100
TZNAME:CET
DTSTART:20241027T010000
END:STANDARD
END:VTIMEZONE
BEGIN:VEVENT
DTSTART;VALUE=DATE:20240421
DTEND;VALUE=DATE:20240422
DTSTAMP:20260423T141603
CREATED:20231130T003534Z
LAST-MODIFIED:20240201T115612Z
UID:2161-1713657600-1713743999@caipianezza.it
SUMMARY:Alpe Combe
DESCRIPTION:Lunghezza: 25 km\nDislivello: 1200 m\nDifficoltà: MC/BC \nDescrizione: Bella e panoramica escursione alle pendici del Rocciamelone\, che permette di toccare numerose frazioni. Da Bussoleno la salita avviene in gran parte su asfalto ad eccezione di alcuni brevi tratti sterrati e presenta pendenze piuttosto impegnative specie nella seconda parte.  \nLa discesa avviene quasi interamente su single-track di media difficoltà ed è interamente ciclabile\, con solo alcuni passaggi più tecnici.
URL:https://caipianezza.it/evento/alpe-combe/
LOCATION:Chianocco (TO)
CATEGORIES:Mountain Bike
ORGANIZER;CN="M. Mattutino":MAILTO:marcomattutino@gmail.com
END:VEVENT
BEGIN:VEVENT
DTSTART;VALUE=DATE:20240421
DTEND;VALUE=DATE:20240422
DTSTAMP:20260423T141603
CREATED:20240414T204120Z
LAST-MODIFIED:20240415T102818Z
UID:2595-1713657600-1713743999@caipianezza.it
SUMMARY:Colle Lazzarà
DESCRIPTION:Difficoltà: E\nQuota partenza: 1124 m\nQuota vetta: 1595 m\nDislivello: 600 m\nRitrovo: Ruata di Pramollo ore 10:00\nDescrizione: dalla piazzetta di Ruata di Pramollo ci si  incammina lungo la stradina asfaltata seguendo le indicazioni per il Col Lazzara’. La stradina prende quota con alcuni tornanti quindi diventa sterrata e raggiunge una bellissima area attrezzata per pic-nic.\nPoco dopo\, sulla dx (cartello) prendere il sentiero che sale direttamente nel bosco raggiungendo i bei prati nei pressi del colle.\nMateriale: da escursionismo\nContatti: Manlio Vineis minervine17@gmail.com entro giovedì 18/04/2024\nOrganizzatori : Dalla Libera Roberto\, Toto Palma (AAG) CAI Alpignano
URL:https://caipianezza.it/evento/colle-lazzara/
CATEGORIES:Escursionismo,Family CAI
END:VEVENT
END:VCALENDAR