BEGIN:VCALENDAR
VERSION:2.0
PRODID:-//Club Alpino Italiano - Sezione di Pianezza - ECPv6.2.4//NONSGML v1.0//EN
CALSCALE:GREGORIAN
METHOD:PUBLISH
X-ORIGINAL-URL:https://caipianezza.it
X-WR-CALDESC:Eventi per Club Alpino Italiano - Sezione di Pianezza
REFRESH-INTERVAL;VALUE=DURATION:PT1H
X-Robots-Tag:noindex
X-PUBLISHED-TTL:PT1H
BEGIN:VTIMEZONE
TZID:Europe/Rome
BEGIN:DAYLIGHT
TZOFFSETFROM:+0100
TZOFFSETTO:+0200
TZNAME:CEST
DTSTART:20240331T010000
END:DAYLIGHT
BEGIN:STANDARD
TZOFFSETFROM:+0200
TZOFFSETTO:+0100
TZNAME:CET
DTSTART:20241027T010000
END:STANDARD
END:VTIMEZONE
BEGIN:VEVENT
DTSTART;VALUE=DATE:20240504
DTEND;VALUE=DATE:20240505
DTSTAMP:20260423T113915
CREATED:20240112T003940Z
LAST-MODIFIED:20240424T180957Z
UID:2306-1714780800-1714867199@caipianezza.it
SUMMARY:Aggiornamento manovre su roccia
DESCRIPTION:L’appuntamento è alle 9\,00 (8\,00 al Cai) alla falesia del Toupè ad un chilometro oltre l’abitato di Novalesa sulla strada per Moncenisio paese\, dove gli istruttori della nostra scuola Giorda ci rinfrescheranno la memoria su manovre e nodi per la nostra sicurezza durante la mattinata\, così al pomeriggio avremo modo di mettere in pratica gli insegnamenti sulla quarantina di vie della falesia( dal 3° al 7° grado). \nCome al solito noi porteremo solo le corde\, per cui chi necessita di attrezzature è pregato di passare in Sede al giovedì sera (2 maggio). \nTrasporti e pranzo al sacco a carico dei partecipanti. Uscita adatta a principianti\, arrugginiti\, curiosi ed esperti purchè muniti dell’obbligatoria attrezzatura(casco\, imbrago e scarpette). Rinvii e proprie corde sono sempre ben accettati. I minori devono essere accompagnati da un adulto. \nIn caso di pioggia l’uscita verrà annullata\, per cui…….occhio al meteo. \nPrenotazione entro giovedì 2 maggio in sede o via email o sms. \nOltre all’email il solito cell. 335/5948125 attivo dalle 7 del mattino. \nManlio Vineis (coordinatore arrampicata)
URL:https://caipianezza.it/evento/aggiornamento-manovre-su-roccia-2/
LOCATION:Falesia da definire
CATEGORIES:Alpinismo e Arrampicata
END:VEVENT
END:VCALENDAR