BEGIN:VCALENDAR
VERSION:2.0
PRODID:-//Club Alpino Italiano - Sezione di Pianezza - ECPv6.2.4//NONSGML v1.0//EN
CALSCALE:GREGORIAN
METHOD:PUBLISH
X-WR-CALNAME:Club Alpino Italiano - Sezione di Pianezza
X-ORIGINAL-URL:https://caipianezza.it
X-WR-CALDESC:Eventi per Club Alpino Italiano - Sezione di Pianezza
REFRESH-INTERVAL;VALUE=DURATION:PT1H
X-Robots-Tag:noindex
X-PUBLISHED-TTL:PT1H
BEGIN:VTIMEZONE
TZID:Europe/Rome
BEGIN:DAYLIGHT
TZOFFSETFROM:+0100
TZOFFSETTO:+0200
TZNAME:CEST
DTSTART:20240331T010000
END:DAYLIGHT
BEGIN:STANDARD
TZOFFSETFROM:+0200
TZOFFSETTO:+0100
TZNAME:CET
DTSTART:20241027T010000
END:STANDARD
END:VTIMEZONE
BEGIN:VEVENT
DTSTART;VALUE=DATE:20240526
DTEND;VALUE=DATE:20240527
DTSTAMP:20260423T102730
CREATED:20240119T222237Z
LAST-MODIFIED:20240420T223012Z
UID:2323-1716681600-1716767999@caipianezza.it
SUMMARY:Bra – Pollenzo
DESCRIPTION:Difficoltà: T\nDislivello: 120 m; sviluppo 12 Km\nRitrovo: Sede CAI Pianezza ore 8\nDescrizione: Anello con partenza e rientro a Bra\, che ci porterà a scoprire la piana del Tanaro e l’interessante borgo di Pollenzo\, di antiche origini romane (riconoscibile ancora l’anfiteatro nella struttura urbana).\nIl castello i Pollenzo\, di origini medievali\, subì nell’800 sostanziali interventi da parte di Carlo Alberto che vi costruì un’attigua grande struttura agricola\, ora sede dell’Università del Gusto e della Banca del Vino\, che avremo modo di visitare.\nL’itinerario si svolgerà principalmente su stradette campestri e strade secondarie\, più alcuni tratti su sentiero. Pranzo al sacco.\nMateriale: da escursionismo\nLocalità di partenza: Bra\nContatti: Giovanni Gili gilig@libero.it\, Renato Nozza renatonozza93@gmail.com
URL:https://caipianezza.it/evento/bra-pollenzo/
CATEGORIES:Escursionismo
END:VEVENT
END:VCALENDAR