BEGIN:VCALENDAR
VERSION:2.0
PRODID:-//Club Alpino Italiano - Sezione di Pianezza - ECPv6.2.4//NONSGML v1.0//EN
CALSCALE:GREGORIAN
METHOD:PUBLISH
X-ORIGINAL-URL:https://caipianezza.it
X-WR-CALDESC:Eventi per Club Alpino Italiano - Sezione di Pianezza
REFRESH-INTERVAL;VALUE=DURATION:PT1H
X-Robots-Tag:noindex
X-PUBLISHED-TTL:PT1H
BEGIN:VTIMEZONE
TZID:Europe/Rome
BEGIN:DAYLIGHT
TZOFFSETFROM:+0100
TZOFFSETTO:+0200
TZNAME:CEST
DTSTART:20240331T010000
END:DAYLIGHT
BEGIN:STANDARD
TZOFFSETFROM:+0200
TZOFFSETTO:+0100
TZNAME:CET
DTSTART:20241027T010000
END:STANDARD
END:VTIMEZONE
BEGIN:VEVENT
DTSTART;VALUE=DATE:20240614
DTEND;VALUE=DATE:20240615
DTSTAMP:20260421T094931
CREATED:20231130T004614Z
LAST-MODIFIED:20240605T080421Z
UID:2172-1718323200-1718409599@caipianezza.it
SUMMARY:Gita in notturna - Meta da definire
DESCRIPTION:Lunghezza: 20 km\nDislivello: 600 m\nDifficoltà: MC/MC \nDescrizione: facile escursione con mangiata e successiva discesa in notturna con la luna piena. la meta verrà comunicata nelle settimane precedenti la gita.
URL:https://caipianezza.it/evento/gita-in-notturna/
CATEGORIES:Mountain Bike
END:VEVENT
END:VCALENDAR