BEGIN:VCALENDAR
VERSION:2.0
PRODID:-//Club Alpino Italiano - Sezione di Pianezza - ECPv6.2.4//NONSGML v1.0//EN
CALSCALE:GREGORIAN
METHOD:PUBLISH
X-WR-CALNAME:Club Alpino Italiano - Sezione di Pianezza
X-ORIGINAL-URL:https://caipianezza.it
X-WR-CALDESC:Eventi per Club Alpino Italiano - Sezione di Pianezza
REFRESH-INTERVAL;VALUE=DURATION:PT1H
X-Robots-Tag:noindex
X-PUBLISHED-TTL:PT1H
BEGIN:VTIMEZONE
TZID:Europe/Rome
BEGIN:DAYLIGHT
TZOFFSETFROM:+0100
TZOFFSETTO:+0200
TZNAME:CEST
DTSTART:20240331T010000
END:DAYLIGHT
BEGIN:STANDARD
TZOFFSETFROM:+0200
TZOFFSETTO:+0100
TZNAME:CET
DTSTART:20241027T010000
END:STANDARD
END:VTIMEZONE
BEGIN:VEVENT
DTSTART;VALUE=DATE:20240620
DTEND;VALUE=DATE:20240621
DTSTAMP:20260421T082048
CREATED:20240523T183718Z
LAST-MODIFIED:20240616T073011Z
UID:2665-1718841600-1718927999@caipianezza.it
SUMMARY:Immagini dal Nepal e dal Kilimangiaro
DESCRIPTION:L’amico Lorenzo Cassardo (CAI Mosso Santa Maria) ci racconterà con l’aiuto di alcune fotografie il suo recente trekking in Nepal e la salita sul Kilimangiaro del 2023 \nIngresso libero ore 21.15 \n \n  \n  \n 
URL:https://caipianezza.it/evento/immagini-dal-nepal-e-dal-kilimangiaro/
LOCATION:CAI Pianezza\, Via Moncenisio 1\, Pianezza\, 10044\, Italia
CATEGORIES:Attività sociali
END:VEVENT
END:VCALENDAR