BEGIN:VCALENDAR
VERSION:2.0
PRODID:-//Club Alpino Italiano - Sezione di Pianezza - ECPv6.2.4//NONSGML v1.0//EN
CALSCALE:GREGORIAN
METHOD:PUBLISH
X-ORIGINAL-URL:https://caipianezza.it
X-WR-CALDESC:Eventi per Club Alpino Italiano - Sezione di Pianezza
REFRESH-INTERVAL;VALUE=DURATION:PT1H
X-Robots-Tag:noindex
X-PUBLISHED-TTL:PT1H
BEGIN:VTIMEZONE
TZID:Europe/Rome
BEGIN:DAYLIGHT
TZOFFSETFROM:+0100
TZOFFSETTO:+0200
TZNAME:CEST
DTSTART:20240331T010000
END:DAYLIGHT
BEGIN:STANDARD
TZOFFSETFROM:+0200
TZOFFSETTO:+0100
TZNAME:CET
DTSTART:20241027T010000
END:STANDARD
END:VTIMEZONE
BEGIN:VEVENT
DTSTART;VALUE=DATE:20240908
DTEND;VALUE=DATE:20240909
DTSTAMP:20260421T022922
CREATED:20240825T203211Z
LAST-MODIFIED:20240826T181421Z
UID:2851-1725753600-1725839999@caipianezza.it
SUMMARY:Open Day Masso Gastaldi
DESCRIPTION:DOMENICA 8 SETTEMBRE\, DALLE 10 ALLE 18 APERTURA E VISITE DEL MASSO GASTALDI \nLa manifestazione si terrà in concomitanza di Commercianti in Piazza e della Festa dello Sport organizzata dal Comune di Pianezza. Inoltre  ricorre il 140° anniversario dell’intitolazione del Masso erratico “Pera Mòra”  a Bartolomeo Gastaldi e il decimo anniversario della riscoperta ed esplorazione del Rifugio Antiaereo posto sotto il masso. \nIl programma indicativo è: \n–   Visite al Masso \n–   Prove di arrampicata in sicurezza sulle pareti attrezzate del masso dalle 10 alle 12 e dalle 14 alle 17\, previa prenotazione a caipianezza@gmail.com \n–   Mostra fotografica dedicata al Masso e al Rifugio.
URL:https://caipianezza.it/evento/2851/
LOCATION:Masso Gataldi Pianezza\, Via Masso Gastadi\, Pianezza\, Italia
CATEGORIES:Attività sociali
END:VEVENT
END:VCALENDAR