BEGIN:VCALENDAR
VERSION:2.0
PRODID:-//Club Alpino Italiano - Sezione di Pianezza - ECPv6.2.4//NONSGML v1.0//EN
CALSCALE:GREGORIAN
METHOD:PUBLISH
X-WR-CALNAME:Club Alpino Italiano - Sezione di Pianezza
X-ORIGINAL-URL:https://caipianezza.it
X-WR-CALDESC:Eventi per Club Alpino Italiano - Sezione di Pianezza
REFRESH-INTERVAL;VALUE=DURATION:PT1H
X-Robots-Tag:noindex
X-PUBLISHED-TTL:PT1H
BEGIN:VTIMEZONE
TZID:Europe/Rome
BEGIN:DAYLIGHT
TZOFFSETFROM:+0100
TZOFFSETTO:+0200
TZNAME:CEST
DTSTART:20240331T010000
END:DAYLIGHT
BEGIN:STANDARD
TZOFFSETFROM:+0200
TZOFFSETTO:+0100
TZNAME:CET
DTSTART:20241027T010000
END:STANDARD
END:VTIMEZONE
BEGIN:VEVENT
DTSTART;VALUE=DATE:20241201
DTEND;VALUE=DATE:20241202
DTSTAMP:20260420T175055
CREATED:20240126T225847Z
LAST-MODIFIED:20241012T133750Z
UID:2387-1733011200-1733097599@caipianezza.it
SUMMARY:I colori dell'autunno -passeggiata nei boschi
DESCRIPTION:Domenica 1 dicembre \nRitrovo alla sede Cai per le ore 9 oppure a Lajetto\, sopra Condove\, per le 9\,45/10. \nPartendo dalla frazione di Lajetto su facile sentiero\, a tratti molto pianeggiante\, avremo modo di parlare della vita di montagna\, passata e presente\, e dei suoi boschi magari incontrando qualche residuo fungo. Un cammino con molte soste e spiegazioni che ci porterà sino al ponte di legno sul torrente Sessi e da questo sino al ponte successivo dove faremo sosta per pranzo. La discesa avverrà sul sentiero 559 che ci porterà sino a Pratobotrile (bar e ristorante) e con una breve discesa sull’asfalto raggiungeremo Lajetto e le auto non senza aver parlato dell’antica chiesetta del cimitero e dei suoi affreschi. \nIl percorso è adatto a tutti e si sviluppa su tratti ampiamente pianeggianti per totali 4 km di percorso andata e ritorno con molte soste esplicative dalla guida naturalistica che ci accompagnerà. Storia\, ecologia\, botanica\, micologia\, geologia\, cultura alpina\, meteorologia sono i tanti argomenti che tratteremo lungo il percorso che si concluderà intorno alle 16/16\,30. Consigliate pedule o scarponcini(ruscelli e fango presenti) ed abbigliamento consono alla stagione. \nLe prenotazioni dovranno pervenire entro il 28 novembre in sede o via email o al cell. 335/5948125. Data in cui confermeremo l’uscita in base alle condizioni meteo. \nManlio Vineis(coordinatore dell’uscita) \n 
URL:https://caipianezza.it/evento/escursionismo-tematico/
CATEGORIES:Escursionismo
ORGANIZER;CN="M. Vineis":MAILTO:minervine17@gmail.com
END:VEVENT
END:VCALENDAR