BEGIN:VCALENDAR
VERSION:2.0
PRODID:-//Club Alpino Italiano - Sezione di Pianezza - ECPv6.2.4//NONSGML v1.0//EN
CALSCALE:GREGORIAN
METHOD:PUBLISH
X-WR-CALNAME:Club Alpino Italiano - Sezione di Pianezza
X-ORIGINAL-URL:https://caipianezza.it
X-WR-CALDESC:Eventi per Club Alpino Italiano - Sezione di Pianezza
REFRESH-INTERVAL;VALUE=DURATION:PT1H
X-Robots-Tag:noindex
X-PUBLISHED-TTL:PT1H
BEGIN:VTIMEZONE
TZID:Europe/Rome
BEGIN:DAYLIGHT
TZOFFSETFROM:+0100
TZOFFSETTO:+0200
TZNAME:CEST
DTSTART:20260329T010000
END:DAYLIGHT
BEGIN:STANDARD
TZOFFSETFROM:+0200
TZOFFSETTO:+0100
TZNAME:CET
DTSTART:20261025T010000
END:STANDARD
END:VTIMEZONE
BEGIN:VEVENT
DTSTART;VALUE=DATE:20260425
DTEND;VALUE=DATE:20260426
DTSTAMP:20260425T012507
CREATED:20260115T173143Z
LAST-MODIFIED:20260424T100351Z
UID:4002-1777075200-1777161599@caipianezza.it
SUMMARY:Prese Rossi
DESCRIPTION:Lunghezza: 23 km circa\nDislivello: 1050 m circa\nDifficoltà: TC+/MC (passaggi BC)\nDescrizione: facile ma interessante itinerario ideale per le prime gite della stagione quando si devono riacquisire gli automatismi della conduzione in discesa. Si parte da Vaie per salire alla borgata Folatone su una strada in mezzo al bosco\, asfaltata e con pendenze considerevoli. Dopo questa borgata la strada spiana e su un bello sterrato con alcuni saliscendi si raggiunge il colle Braida dove inizia l’ultima salita fino alle Prese Rossi (1075 m). La prima discesa su sentiero ripido ma facile ci porta appena sotto la Sacra. Da qui si risalgono poche centinaia di metri sulla provinciale fino alla borgata Basinatto da dove un lungo traverso su sentiero con alcune rampe ci riporta a Folatone. La discesa su Vaie è una bella mulattiera lastricata (MC) con solo alcuni passaggi BC. E’ indispensabile l’uso del casco durante tutta la durata dell’escursione\nPranzo al sacco\, troveremo alcune fontane lungo il percorso. \nRitrovo: Vaie\, piazza del Priore ore 8.30 – Link Google Maps: https://maps.app.goo.gl/hrp5enq7XusZdV588 \nPartenza: ore 9 \nIscrizione: obbligatoria al link https://forms.gle/oLLcuLeWdB9TTzob7
URL:https://caipianezza.it/evento/prese-rossi/
LOCATION:Vaie (TO)
CATEGORIES:Mountain Bike
END:VEVENT
END:VCALENDAR