BEGIN:VCALENDAR
VERSION:2.0
PRODID:-//Club Alpino Italiano - Sezione di Pianezza - ECPv6.2.4//NONSGML v1.0//EN
CALSCALE:GREGORIAN
METHOD:PUBLISH
X-ORIGINAL-URL:https://caipianezza.it
X-WR-CALDESC:Eventi per Club Alpino Italiano - Sezione di Pianezza
REFRESH-INTERVAL;VALUE=DURATION:PT1H
X-Robots-Tag:noindex
X-PUBLISHED-TTL:PT1H
BEGIN:VTIMEZONE
TZID:Europe/Rome
BEGIN:DAYLIGHT
TZOFFSETFROM:+0100
TZOFFSETTO:+0200
TZNAME:CEST
DTSTART:20250330T010000
END:DAYLIGHT
BEGIN:STANDARD
TZOFFSETFROM:+0200
TZOFFSETTO:+0100
TZNAME:CET
DTSTART:20251026T010000
END:STANDARD
END:VTIMEZONE
BEGIN:VEVENT
DTSTART;VALUE=DATE:20250213
DTEND;VALUE=DATE:20250214
DTSTAMP:20260424T082725
CREATED:20241226T215059Z
LAST-MODIFIED:20250207T190510Z
UID:3218-1739404800-1739491199@caipianezza.it
SUMMARY:"In Merica Caravan-Ande 2023" a cura del gruppo Caravanserai
DESCRIPTION:Novecentocinquanta chilometri percorsi con la bicicletta in 20 giorni tra bianchi deserti di sale e infiniti sterrati. L’ultimo atto: la lunga ascesa dell’Aconcagua\, che con i suoi 6.961 metri è la cima più alta dell’America del Sud. Questo è il racconto epico di un viaggio compiuto da due italiani\, Valter Perlino e Sebastiano Audisio\, che con il loro progetto\, Caravanserai\, da 25 anni sfidano le cime più prestigiose con mountain bike e scarponi\, dall’Himalaya alla Mongolia\, dal Circolo Polare Artico al Kirghizistan. La scalata è stata portata a termine alla fine del 2023. «L’avevamo messa nel mirino da tempo – ci ha spiegato Valter – ma abbiamo ritardato la partenza perché queste avventure vanno pregustate. Sognate\, vissute e poi ricordate». \nIngresso libero Ore 21.15
URL:https://caipianezza.it/evento/in-merica-caravan-ande-2023-a-cura-del-gruppo-caravanserai/
LOCATION:CAI Pianezza\, Via Moncenisio 1\, Pianezza\, 10044\, Italia
CATEGORIES:Attività sociali
END:VEVENT
BEGIN:VEVENT
DTSTART;VALUE=DATE:20250227
DTEND;VALUE=DATE:20250228
DTSTAMP:20260424T082725
CREATED:20250223T165824Z
LAST-MODIFIED:20250223T165824Z
UID:3399-1740614400-1740700799@caipianezza.it
SUMMARY:L'allevamento di Montagna e i suoi servizi per la collettività - Mauro Coppa (Università di Torino)
DESCRIPTION:“Quanto ha influito l’allevamento nel disegnare la montagna come la conosciamo? E quanto la relazione uomo-animale-ambiente influisce ancora oggi?\nMauro Coppa\, pastoralista e professore di zootecnia presso il dipartimento di Scienze Agrarie\, Forestali e Alimentari dell’Università di Torino\, ci racconterà quali servizi l’allevamento svolge per tutelare l’ambiente alpino e le comunità che lo abitano.\nCi darà anche preziosi consigli su come comportarci in alpeggio\, un luogo di lavoro fuori dal comune.”\nOre 21.00 Ingresso libero
URL:https://caipianezza.it/evento/lallevamento-di-montagna-e-i-suoi-servizi-per-la-collettivita-mauro-coppa-universita-di-torino/
LOCATION:CAI Pianezza\, Via Moncenisio 1\, Pianezza\, 10044\, Italia
CATEGORIES:Attività sociali
END:VEVENT
END:VCALENDAR