BEGIN:VCALENDAR
VERSION:2.0
PRODID:-//Club Alpino Italiano - Sezione di Pianezza - ECPv6.2.4//NONSGML v1.0//EN
CALSCALE:GREGORIAN
METHOD:PUBLISH
X-ORIGINAL-URL:https://caipianezza.it
X-WR-CALDESC:Eventi per Club Alpino Italiano - Sezione di Pianezza
REFRESH-INTERVAL;VALUE=DURATION:PT1H
X-Robots-Tag:noindex
X-PUBLISHED-TTL:PT1H
BEGIN:VTIMEZONE
TZID:Europe/Rome
BEGIN:DAYLIGHT
TZOFFSETFROM:+0100
TZOFFSETTO:+0200
TZNAME:CEST
DTSTART:20260329T010000
END:DAYLIGHT
BEGIN:STANDARD
TZOFFSETFROM:+0200
TZOFFSETTO:+0100
TZNAME:CET
DTSTART:20261025T010000
END:STANDARD
END:VTIMEZONE
BEGIN:VEVENT
DTSTART;VALUE=DATE:20260508
DTEND;VALUE=DATE:20260509
DTSTAMP:20260421T143202
CREATED:20260402T130301Z
LAST-MODIFIED:20260402T182552Z
UID:4336-1778198400-1778284799@caipianezza.it
SUMMARY:Presentazione del libro "Il Masso Gastaldi nella storia e nella tradizione di Pianezza" edito dal CAI Pianezza
DESCRIPTION:Alla Biblioteca Comunale gli autori presenteranno il libro “Il Masso Gastaldi nella storia e nella tradizione di Pianezza”. Un’opera che racconta il legame profondo tra la comunità di Pianezza e questo simbolo storico\, punto di riferimento per generazioni di alpinisti locali. Con il patrocinio del Comune di Pianezza\nIngresso libero ore 21:00
URL:https://caipianezza.it/evento/presentazione-del-libro-il-masso-gastaldi-nella-storia-e-nella-tradizione-di-pianezza-edito-dal-cai-pianezza/
LOCATION:Biblioteca Comunale\, Via G. Matteotti 3\, Pianezza\, Italia
CATEGORIES:Attività sociali
END:VEVENT
BEGIN:VEVENT
DTSTART;TZID=Europe/Rome:20260514T210000
DTEND;TZID=Europe/Rome:20260514T230000
DTSTAMP:20260421T143202
CREATED:20260402T131343Z
LAST-MODIFIED:20260417T215952Z
UID:4341-1778792400-1778799600@caipianezza.it
SUMMARY:Invito alla Ferrata
DESCRIPTION:14 maggio 2026 Ore 21:00\nSerata teorica tenuta a cura di Giorgio Gambelli\, Istruttore Nazionale Alpinismo (INA)\nSede CAI Pianezza – Via Moncenisio 1\nIngresso libero\, ore 21:00 \nUscite in ferrata\, difficoltà media e facile\n23 maggio (accompagnamento INA)\n6 giugno (accompagnamento INA)\n12 settembre \nOrganizzatori: Luca Ferrero nuovaceiba@gmail.com\, Simone Gili d3sirio@gmail.com\, Gianfranco Contin gfcontin@gmail.com\, Guido Pettovello guyfriul@alice.it
URL:https://caipianezza.it/evento/invito-alla-ferrata/
LOCATION:CAI Pianezza\, Via Moncenisio 1\, Pianezza\, 10044\, Italia
CATEGORIES:Attività sociali,Via ferrata
END:VEVENT
BEGIN:VEVENT
DTSTART;VALUE=DATE:20260521
DTEND;VALUE=DATE:20260522
DTSTAMP:20260421T143202
CREATED:20260402T131656Z
LAST-MODIFIED:20260402T131656Z
UID:4344-1779321600-1779407999@caipianezza.it
SUMMARY:Il MuseoMontagna tra memoria\, documentazione e futuro: 152 anni di cultura alpina. Daniela Berta Direttrice del Museo
DESCRIPTION:La Biblioteca Comunale ospita una serata speciale dedicata al Museo della Montagna con la partecipazione della Direttrice Daniela Berta. Un’occasione unica per scoprire la storia\, le collezioni e la missione culturale di una delle istituzioni più importanti dedicate alla cultura alpina.\nIngresso libero\, ore 21:00
URL:https://caipianezza.it/evento/il-museomontagna-tra-memoria-documentazione-e-futuro-152-anni-di-cultura-alpina-daniela-berta-direttrice-del-museo/
LOCATION:Biblioteca Comunale\, Via G. Matteotti 3\, Pianezza\, Italia
CATEGORIES:Attività sociali
END:VEVENT
END:VCALENDAR