BEGIN:VCALENDAR
VERSION:2.0
PRODID:-//Club Alpino Italiano - Sezione di Pianezza - ECPv6.2.4//NONSGML v1.0//EN
CALSCALE:GREGORIAN
METHOD:PUBLISH
X-ORIGINAL-URL:https://caipianezza.it
X-WR-CALDESC:Eventi per Club Alpino Italiano - Sezione di Pianezza
REFRESH-INTERVAL;VALUE=DURATION:PT1H
X-Robots-Tag:noindex
X-PUBLISHED-TTL:PT1H
BEGIN:VTIMEZONE
TZID:Europe/Rome
BEGIN:DAYLIGHT
TZOFFSETFROM:+0100
TZOFFSETTO:+0200
TZNAME:CEST
DTSTART:20250330T010000
END:DAYLIGHT
BEGIN:STANDARD
TZOFFSETFROM:+0200
TZOFFSETTO:+0100
TZNAME:CET
DTSTART:20251026T010000
END:STANDARD
END:VTIMEZONE
BEGIN:VEVENT
DTSTART;VALUE=DATE:20250403
DTEND;VALUE=DATE:20250404
DTSTAMP:20260424T112518
CREATED:20250327T085516Z
LAST-MODIFIED:20250328T113328Z
UID:3456-1743638400-1743724799@caipianezza.it
SUMMARY:Trekking nella "Cina Incantata"
DESCRIPTION:Il nostro socio “Fernando Genova” presenta il suo trekking nella “Cina Incantata” da Chengdu a Shanghai. Esplora paesaggi mozzafiato e montagne sacre come gli “Emei-shan”\, le “Avatar mountains” (Tianzi)\, le “Yellow Mountains” e il “Wuyishan”\, con escursioni al “Grande Buddha di Leshan” e sul “Glass Bridge”. Un viaggio tra natura\, storia e la sorprendente modernità della Cina.\nIngresso libero\, ore 21.15
URL:https://caipianezza.it/evento/fernando-genova-presenta-trekking-nella-cina-incantata/
LOCATION:CAI Pianezza\, Via Moncenisio 1\, Pianezza\, 10044\, Italia
CATEGORIES:Attività sociali
END:VEVENT
END:VCALENDAR