BEGIN:VCALENDAR
VERSION:2.0
PRODID:-//Club Alpino Italiano - Sezione di Pianezza - ECPv6.2.4//NONSGML v1.0//EN
CALSCALE:GREGORIAN
METHOD:PUBLISH
X-ORIGINAL-URL:https://caipianezza.it
X-WR-CALDESC:Eventi per Club Alpino Italiano - Sezione di Pianezza
REFRESH-INTERVAL;VALUE=DURATION:PT1H
X-Robots-Tag:noindex
X-PUBLISHED-TTL:PT1H
BEGIN:VTIMEZONE
TZID:Europe/Rome
BEGIN:DAYLIGHT
TZOFFSETFROM:+0100
TZOFFSETTO:+0200
TZNAME:CEST
DTSTART:20240331T010000
END:DAYLIGHT
BEGIN:STANDARD
TZOFFSETFROM:+0200
TZOFFSETTO:+0100
TZNAME:CET
DTSTART:20241027T010000
END:STANDARD
END:VTIMEZONE
BEGIN:VEVENT
DTSTART;VALUE=DATE:20240714
DTEND;VALUE=DATE:20240715
DTSTAMP:20260419T145138
CREATED:20240126T223450Z
LAST-MODIFIED:20240706T151957Z
UID:2369-1720915200-1721001599@caipianezza.it
SUMMARY:Val d’Ayas: Giro dei 4 Valloni
DESCRIPTION:Difficoltà: E\nQuota partenza: 1700 m\nDislivello complessivo: 800 m\nRitrovo: ore 7 sede CAI Pianezza\nSi posteggia a Frachey\, nell’ampio parcheggio della funivia\, da cui una navetta ogni 20 minuti porta a St Jacques.\nSi prevede di partire da St Jacques alle 9 circa. \nContatti: Carlo Frizzi carlomaria.frizzi@gmail.com; Simone Gili d3sirio@gmail.com \nDescrizione: A causa di una grossa frana e della distruzione di un ponte nel vallone delle Cime Bianche\, la gita viene modificata come segue: \nDa St. Jacques a Fiéry e poi verso il vallone delle Cime Bianche\, fino al bivio che conduce all’Alpe Cucaz (2230 m)\, e poi nel Vallone di Tzere\, fino ad oggi preservato da ski-lift e seggiovie.\nTra prati e cascatelle\, su un recente sentiero\, si traversa ancora fino al magnifico Pian di Verra inferiore (2050 m).\nVisto che abbiamo risparmiato un po’ di fatica\, sicuramente riusciremo a raggiungere tutti insieme il Lago Blu (2211 m)\, sognando qualche avventura arrampicatoria sulla sovrastante Rocca di Verra.\nTornati in breve al Pian di Verra\, ancora saliscendi fino a Résy (2086 m)\, all’imbocco del Vallone della Forca.\nPossibilità di ristoro ai Rifugi Ferraro o Guide Frachey\, poi giù a picco a Saint Jacques.\nNota: fioritura magnifica\, ruscelli e cascate al massimo del loro splendore. \nMateriale: da escursionismo\nLocalità di partenza: St Jacques\, val d’Ayas
URL:https://caipianezza.it/evento/giro-dei-5-valloni/
CATEGORIES:Escursionismo
END:VEVENT
BEGIN:VEVENT
DTSTART;VALUE=DATE:20240720
DTEND;VALUE=DATE:20240722
DTSTAMP:20260419T145138
CREATED:20240126T223946Z
LAST-MODIFIED:20240620T080621Z
UID:2372-1721433600-1721606399@caipianezza.it
SUMMARY:Monte Granero (rif. Granero)
DESCRIPTION:Difficoltà: EE\nQuota partenza: 1222 m\nQuota vetta: 3170 m\nDislivello: 1155 m + 794 m\nRitrovo: sabato 20 luglio sede CAI ore 10 oppure Villanova Pellice alla partenza strada per il rifugio Jervis ore 11\,30\nContatti: Gianfranco Contin gfcontin@gmail.com ; Guido Pettovello guyfriul@alice.it \nTermine per le iscrizioni 2 luglio 2024. Si accettano massimo 10 iscrizioni\, precedenza ai soci del CAI Pianezza.\nIl costo della mezza pensione è di 46 € per soci CAI.\nNecessario versare anticipo di 20 €\n(satispay oppure bonifico iban IT56A0301503200000002741258 (7 zeri) intestato a Contin Gianfranco).\nIndicare eventuali esigenze alimentari. \nDescrizione: Salita al rifugio Granero\, dove pernotteremo\, passando dal rifugio Jervis ed attraversando la Conca del Prà (dislivello 1155 m\, sentiero lungo ma facile).\nDomenica 21 luglio salita al M.Granero dislivello 794 m\, itinerario descritto facile con attenzione al canalone che porta alla vetta dove è possibile scaricare pietre (casco consigliato). In alternativa salita su facili rocce con passi di 1-1+. La cima costituisce un ottimo punto di osservazione della parete Nord del Monviso e delle numerose cime che lo contornano.\nDiscesa a Villanova dislivello 1949 m.\nMateriale: da escursionismo\, casco consigliato\nLocalità di partenza: Villanova Pellice
URL:https://caipianezza.it/evento/monte-granero-rif-jervis/
CATEGORIES:Escursionismo
END:VEVENT
END:VCALENDAR