BEGIN:VCALENDAR
VERSION:2.0
PRODID:-//Club Alpino Italiano - Sezione di Pianezza - ECPv6.2.4//NONSGML v1.0//EN
CALSCALE:GREGORIAN
METHOD:PUBLISH
X-WR-CALNAME:Club Alpino Italiano - Sezione di Pianezza
X-ORIGINAL-URL:https://caipianezza.it
X-WR-CALDESC:Eventi per Club Alpino Italiano - Sezione di Pianezza
REFRESH-INTERVAL;VALUE=DURATION:PT1H
X-Robots-Tag:noindex
X-PUBLISHED-TTL:PT1H
BEGIN:VTIMEZONE
TZID:Europe/Rome
BEGIN:DAYLIGHT
TZOFFSETFROM:+0100
TZOFFSETTO:+0200
TZNAME:CEST
DTSTART:20260329T010000
END:DAYLIGHT
BEGIN:STANDARD
TZOFFSETFROM:+0200
TZOFFSETTO:+0100
TZNAME:CET
DTSTART:20261025T010000
END:STANDARD
END:VTIMEZONE
BEGIN:VEVENT
DTSTART;VALUE=DATE:20260902
DTEND;VALUE=DATE:20260907
DTSTAMP:20260420T175045
CREATED:20260318T221758Z
LAST-MODIFIED:20260318T221758Z
UID:4260-1788307200-1788739199@caipianezza.it
SUMMARY:Cresta dell'Acqua Calda
DESCRIPTION:Organizzatori: Carlo Borsani carloriccardo.borsani@fastwebnet.it\, Guido Pettovello guyfriul@alice.it \nDifficoltà: E/EE\nQuota partenza: m\nQuota vetta: m\nDislivello: m\nRitrovo: da definire \nDescrizione: \nMateriale: da escursionismo\nLocalità di partenza:
URL:https://caipianezza.it/evento/cresta-dellacqua-calda/
CATEGORIES:Alpinismo e Arrampicata,Escursionismo
END:VEVENT
BEGIN:VEVENT
DTSTART;VALUE=DATE:20260906
DTEND;VALUE=DATE:20260907
DTSTAMP:20260420T175045
CREATED:20260318T222058Z
LAST-MODIFIED:20260318T222141Z
UID:4262-1788652800-1788739199@caipianezza.it
SUMMARY:Rocciamelone da La Riposa
DESCRIPTION:Organizzatori: Luca Pochettino luca.pochettino@gmail.com\, Alberto Lovera alberto.lovera.2009@gmail.com\, Carlo Frizzi carlomaria.frizzi@gmail.com \nDifficoltà: EE\nQuota partenza: m\nQuota vetta: m\nDislivello: m\nRitrovo: da definire \nDescrizione: \nMateriale: da escursionismo\nLocalità di partenza: La Riposa\, Susa
URL:https://caipianezza.it/evento/rocciamelone-da-la-riposa/
CATEGORIES:Escursionismo
END:VEVENT
BEGIN:VEVENT
DTSTART;VALUE=DATE:20260912
DTEND;VALUE=DATE:20260913
DTSTAMP:20260420T175045
CREATED:20260318T222439Z
LAST-MODIFIED:20260409T164708Z
UID:4266-1789171200-1789257599@caipianezza.it
SUMMARY:Passeggiata con concerto
DESCRIPTION:Organizzatori: ISZ (Almese) info@caialmese.it \nDifficoltà: E\nQuota partenza: 378 m\nLunghezza: 6 Km\nDislivello: 300 m\nRitrovo: da definire \nDescrizione: Una semplice escursione sul territorio di Almese\, che termina alla suggestiva chiesetta di Santa Marie delle Grazie dove ci attenderanno i Kalamass\, un gruppo di musica tradizionale irlandese\, per un’oretta di intrattenimento musicale \nMateriale: da escursionismo\nLocalità di partenza: piazza della chiesa di Rivera m. 378
URL:https://caipianezza.it/evento/passeggiata-con-concerto/
CATEGORIES:Escursionismo
END:VEVENT
BEGIN:VEVENT
DTSTART;VALUE=DATE:20260919
DTEND;VALUE=DATE:20260920
DTSTAMP:20260420T175045
CREATED:20260318T222859Z
LAST-MODIFIED:20260318T222859Z
UID:4271-1789776000-1789862399@caipianezza.it
SUMMARY:Anello Unghiasse – Fertà -Alboni
DESCRIPTION:Organizzatori: Luca Ferrero nuovaceiba@gmail.com\, Matteo Cinus m.cinus@tim.it\, Gabriella Belmondogabriellacmb83@hotmail.com\, Laura Bianco laura.bianco936@gmail.com \nDifficoltà: E\nQuota partenza: m\nQuota vetta: m\nDislivello: m\nRitrovo: da definire \nDescrizione: \nMateriale: da escursionismo\nLocalità di partenza: Alboni (Pialpetta)
URL:https://caipianezza.it/evento/anello-unghiasse-ferta-alboni/
CATEGORIES:Escursionismo
END:VEVENT
BEGIN:VEVENT
DTSTART;VALUE=DATE:20260920
DTEND;VALUE=DATE:20260921
DTSTAMP:20260420T175045
CREATED:20260318T223121Z
LAST-MODIFIED:20260318T223121Z
UID:4274-1789862400-1789948799@caipianezza.it
SUMMARY:Sommeiller
DESCRIPTION:Organizzatori: Luca Borelli lucbore@yahoo.it\, Nadia Castagno nadia.castagno@gmail.com\, Alberto Borelli albertoborelli007@gmail.com \nDifficoltà: EE\nQuota partenza: m\nQuota vetta: m\nDislivello: m\nRitrovo: da definire \nDescrizione: \nMateriale: da escursionismo\nLocalità di partenza: Grange della Valle
URL:https://caipianezza.it/evento/sommeiller/
CATEGORIES:Escursionismo
END:VEVENT
BEGIN:VEVENT
DTSTART;VALUE=DATE:20260926
DTEND;VALUE=DATE:20260927
DTSTAMP:20260420T175045
CREATED:20260318T223301Z
LAST-MODIFIED:20260318T223301Z
UID:4277-1790380800-1790467199@caipianezza.it
SUMMARY:Taou Blanc
DESCRIPTION:Organizzatori: Gruppo giovani\, Matteo Cinus m.cinus@tim.it\, Simone Gili d3sirio@gmail.com \nDifficoltà: EE\nQuota partenza: m\nQuota vetta: m\nDislivello: m\nRitrovo: da definire \nDescrizione: \nMateriale: da escursionismo\nLocalità di partenza: Nivolet
URL:https://caipianezza.it/evento/taou-blanc/
CATEGORIES:Escursionismo
END:VEVENT
BEGIN:VEVENT
DTSTART;VALUE=DATE:20260926
DTEND;VALUE=DATE:20261004
DTSTAMP:20260420T175045
CREATED:20260318T223535Z
LAST-MODIFIED:20260318T223535Z
UID:4280-1790380800-1791071999@caipianezza.it
SUMMARY:Costiera amalfitana e monti Lattari
DESCRIPTION:Organizzatori: Gili Giovanni gilig@libero.it
URL:https://caipianezza.it/evento/costiera-amalfitana-e-monti-lattari/
CATEGORIES:Escursionismo
END:VEVENT
END:VCALENDAR