BEGIN:VCALENDAR
VERSION:2.0
PRODID:-//Club Alpino Italiano - Sezione di Pianezza - ECPv6.2.4//NONSGML v1.0//EN
CALSCALE:GREGORIAN
METHOD:PUBLISH
X-ORIGINAL-URL:https://caipianezza.it
X-WR-CALDESC:Eventi per Club Alpino Italiano - Sezione di Pianezza
REFRESH-INTERVAL;VALUE=DURATION:PT1H
X-Robots-Tag:noindex
X-PUBLISHED-TTL:PT1H
BEGIN:VTIMEZONE
TZID:Europe/Rome
BEGIN:DAYLIGHT
TZOFFSETFROM:+0100
TZOFFSETTO:+0200
TZNAME:CEST
DTSTART:20250330T010000
END:DAYLIGHT
BEGIN:STANDARD
TZOFFSETFROM:+0200
TZOFFSETTO:+0100
TZNAME:CET
DTSTART:20251026T010000
END:STANDARD
BEGIN:DAYLIGHT
TZOFFSETFROM:+0100
TZOFFSETTO:+0200
TZNAME:CEST
DTSTART:20260329T010000
END:DAYLIGHT
BEGIN:STANDARD
TZOFFSETFROM:+0200
TZOFFSETTO:+0100
TZNAME:CET
DTSTART:20261025T010000
END:STANDARD
END:VTIMEZONE
BEGIN:VEVENT
DTSTART;VALUE=DATE:20251109
DTEND;VALUE=DATE:20251110
DTSTAMP:20260425T044537
CREATED:20250216T221226Z
LAST-MODIFIED:20251020T122142Z
UID:3364-1762646400-1762732799@caipianezza.it
SUMMARY:Il mare d’autunno
DESCRIPTION:Traversata da Sori a Genova Nervi\n con l’Intersezionale Val Susa Val Sangone. \nPiacevole itinerario con il mare sempre sullo sfondo\, ideale per scoprire le antiche mulattiere e i tradizionali muretti a secco che un tempo delimitavano le proprietà lungo i versanti costieri di questa zona della Liguria. \nIl percorso si sviluppa sulla pendice costiera\, con una vista continua sul mare\, si attraversano zone coltivate\, piccoli borghi\, caruggi\, stradine asfaltate\, vicoli stretti e gradinate. \nViaggio in Pullman \nPer informazioni: Osvaldo Plano\, osvaldo.plano@gmail.com\, cell: 338 4220485 o whatsapp.\nAdesioni:  entro venerdì 31 Ottobre 2025 \n 
URL:https://caipianezza.it/evento/il-mare-dautunno/
CATEGORIES:Escursionismo,Family CAI
END:VEVENT
BEGIN:VEVENT
DTSTART;VALUE=DATE:20260328
DTEND;VALUE=DATE:20260329
DTSTAMP:20260425T044537
CREATED:20260116T221725Z
LAST-MODIFIED:20260116T221725Z
UID:4074-1774656000-1774742399@caipianezza.it
SUMMARY:Cena in rifugio con rientro al buio (rifugio Amprimo)
DESCRIPTION:Organizzatori:  ISZ (Bussoleno)\, info@cai-bussoleno.it\, 338-4220485 \nDifficoltà: E\nQuota partenza:  m\nDislivello: m\nRitrovo: da definire\nDescrizione: Cosa succede nel bosco di notte?\nVieni a cena con noi e lo scoprirai…\nMateriale: da escursionismo\, pila frontale\nLocalità di partenza:  Città\, San Giorio
URL:https://caipianezza.it/evento/cena-in-rifugio-con-rientro-al-buio-rifugio-amprimo/
CATEGORIES:Escursionismo,Family CAI
END:VEVENT
END:VCALENDAR