BEGIN:VCALENDAR
VERSION:2.0
PRODID:-//Club Alpino Italiano - Sezione di Pianezza - ECPv6.2.4//NONSGML v1.0//EN
CALSCALE:GREGORIAN
METHOD:PUBLISH
X-WR-CALNAME:Club Alpino Italiano - Sezione di Pianezza
X-ORIGINAL-URL:https://caipianezza.it
X-WR-CALDESC:Eventi per Club Alpino Italiano - Sezione di Pianezza
REFRESH-INTERVAL;VALUE=DURATION:PT1H
X-Robots-Tag:noindex
X-PUBLISHED-TTL:PT1H
BEGIN:VTIMEZONE
TZID:Europe/Rome
BEGIN:DAYLIGHT
TZOFFSETFROM:+0100
TZOFFSETTO:+0200
TZNAME:CEST
DTSTART:20250330T010000
END:DAYLIGHT
BEGIN:STANDARD
TZOFFSETFROM:+0200
TZOFFSETTO:+0100
TZNAME:CET
DTSTART:20251026T010000
END:STANDARD
END:VTIMEZONE
BEGIN:VEVENT
DTSTART;VALUE=DATE:20250125
DTEND;VALUE=DATE:20250126
DTSTAMP:20260426T032205
CREATED:20241217T221511Z
LAST-MODIFIED:20250106T223608Z
UID:3136-1737763200-1737849599@caipianezza.it
SUMMARY:Monte Paglietta
DESCRIPTION:Difficoltà: MR\nQuota partenza: 1559 m\nQuota vetta: 2479 m\nDislivello: 920 m\nRitrovo: da definire\nDescrizione: Il Monte Paglietta è una meta invernale che non presenta particolari difficoltà e la partenza si trova molto vicino a Saint Oyen in Val d’ Aosta.\nUna buona esposizione al sole e l’assenza di pendii ripidi rendono godibile tutta la parte immersa nel bosco. La parte finale della salita si sviluppa su un’ampia dorsale che offre una discreta varietà di ambienti attraversati ed un bel colpo d’ occhio su splendidi scorci panoramici nel comprensorio del Gran San Bernardo.\nLa discesa con le racchette avviene sul medesimo percorso di salita.\nPer la partecipazione alla gita è richiesto un minimo di allenamento\nMateriale: Racchette da neve\, Artva\, pala\, sonda obbligatori\nLocalità di partenza: Saint Oyen\, AO \nL’escursione è proposta in comune con il gruppo scialpinismo.\n\nContatti: laura.bianco936@gmail.com ; luca.pochettino@gmail.com \nPrenotazione entro il giovedì precedente presso la sede CAI di Pianezza o via mail.\nPer i principianti o soci non abituali frequentatori delle gite invernali CAI\, è obbligatorio presentarsi il giovedì precedente presso la sede di Pianezza.
URL:https://caipianezza.it/evento/monte-paglietta-ciaspole/
CATEGORIES:Racchette da neve
END:VEVENT
END:VCALENDAR