BEGIN:VCALENDAR
VERSION:2.0
PRODID:-//Club Alpino Italiano - Sezione di Pianezza - ECPv6.2.4//NONSGML v1.0//EN
CALSCALE:GREGORIAN
METHOD:PUBLISH
X-WR-CALNAME:Club Alpino Italiano - Sezione di Pianezza
X-ORIGINAL-URL:https://caipianezza.it
X-WR-CALDESC:Eventi per Club Alpino Italiano - Sezione di Pianezza
REFRESH-INTERVAL;VALUE=DURATION:PT1H
X-Robots-Tag:noindex
X-PUBLISHED-TTL:PT1H
BEGIN:VTIMEZONE
TZID:Europe/Rome
BEGIN:DAYLIGHT
TZOFFSETFROM:+0100
TZOFFSETTO:+0200
TZNAME:CEST
DTSTART:20260329T010000
END:DAYLIGHT
BEGIN:STANDARD
TZOFFSETFROM:+0200
TZOFFSETTO:+0100
TZNAME:CET
DTSTART:20261025T010000
END:STANDARD
END:VTIMEZONE
BEGIN:VEVENT
DTSTART;VALUE=DATE:20260221
DTEND;VALUE=DATE:20260223
DTSTAMP:20260420T011629
CREATED:20260107T214138Z
LAST-MODIFIED:20260129T231843Z
UID:3950-1771632000-1771804799@caipianezza.it
SUMMARY:Val Varaita
DESCRIPTION:Sabato – Punta Tre Chiosis (3080 m)\nDislivello: 1357 m\nDifficoltà: BS\nDescrizione: si parte da poco sopra il rifugio Savigliano\, si attraversa il torrente e\, procedendo in direzione nord est su bei pendii con radi larici\, si raggiunge la cresta Savarex che si segue fino in cima.\nDiscesa classica nel vallone Savarex. \nDomenica – Punta Malta (2995 m)\nDislivello: 1395 m\nDifficoltà: BS\nDescrizione: dal rifugio Alevè\, dove avremo pernottato\, si sale alle grange Ciamion e poi in direzione nord est fino ad imboccare il vallone delle Giargiatte. Si percorre il vallone fino a poco sotto il lago Bertin dove si piega a destra e poi in direzione est si sale il costone che porta in cima.\nIn caso di maltempo si potrà ripiegare al passo di San Chiaffredo con uno ‘sconto’ di 250 m circa di dislivello ma sempre in un ambiente spettacolare con vista sul Monviso. \nIn zona le possibili gite sono moltissime e quelle previste potrebbero variare in funzione delle condizioni meteo e dell’innevamento. \nMateriale per entrambe le gite: ARTVA DIGITALE obbligatorio\, pala\, sonda\, rampant\, ramponi\, casco fortemente consigliato \nPernottamento: abbiamo riservato 25 posti presso il rifugio Alevè\, frazione Castello 60\, Pontechianale (CN). Link Google Maps: https://maps.app.goo.gl/S9PnjQkj1cn7VZfW7\nPer chi desidera evitare la levataccia il sabato mattina è possibile cenare e/o pernottare anche il venerdì sera. La cena è alle ore 19. Bisogna portarsi sacco lenzuolo e asciugamani.\nLa mezza pensione costa 60 €. La caparra da versare in contanti o con Satispay ai capigita è pari a 20 €.\nLe iscrizioni si chiuderanno il giorno 12 febbraio. Fino a questa data\, in caso di superamento dei 25 iscritti\, avranno la priorità i soci della sezione di Pianezza. I soci di altre sezioni possono ovviamente iscriversi fin da subito ma riceveranno conferma di accettazione solo il 12 febbraio.
URL:https://caipianezza.it/evento/week-end-nel-brianconnaise/
LOCATION:Val Varaita (CN)
CATEGORIES:Sci Alpinismo
END:VEVENT
BEGIN:VEVENT
DTSTART;VALUE=DATE:20260301
DTEND;VALUE=DATE:20260302
DTSTAMP:20260420T011629
CREATED:20260109T211530Z
LAST-MODIFIED:20260124T170610Z
UID:3974-1772323200-1772409599@caipianezza.it
SUMMARY:Bec di Nana
DESCRIPTION:Difficoltà: BS\nQuota vetta: 3.010 m\nDislivello: 1.200 m\nMateriale: ARTVA\, pala\, sonda\, rampant \nRitrovo: da definire \nDescrizione: Dalla frazione di Mandriou si sale in direzione Ovest fino a raggiungere gli alpeggi di Vascoccia. Si continua puntando la cima e con percorso non obbligato si raggiunge quota 2.800 m circa. Si svolta a sinistra e si aggirano alcune balze ripide\, quindi si segue la dorsale Sud fino in cima.
URL:https://caipianezza.it/evento/bec-di-nana-2/
LOCATION:Mandriou\, Ayas (AO)
CATEGORIES:Sci Alpinismo
END:VEVENT
BEGIN:VEVENT
DTSTART;VALUE=DATE:20260321
DTEND;VALUE=DATE:20260322
DTSTAMP:20260420T011629
CREATED:20260109T212718Z
LAST-MODIFIED:20260316T104013Z
UID:3978-1774051200-1774137599@caipianezza.it
SUMMARY:Monte Roisetta
DESCRIPTION:Difficoltà: BS\nQuota vetta: 3.324 m\nDislivello: 1.250 m\nMateriale: ARTVA\, pala\, sonda\, rampant \nRitrovo: da definire \nDescrizione: Da Cheneil ci si innalza nel rado bosco in direzione Sud-Est all’incirca fino a quota 2.300 m; da qui inizia il lungo traverso che passa sopra delle enormi bastionate fino a raggiungere gli ampi pianori posti sotto il Grand Tournalin. Si risale quindi  i diversi valloncelli prima in direzione Nord-Est e poi in pieno Sud e si raggiunge la vetta con percorso non obbligato ed evitando i pendii più ripidi.
URL:https://caipianezza.it/evento/monte-roisetta/
LOCATION:Cheneil (AO)
CATEGORIES:Sci Alpinismo
END:VEVENT
BEGIN:VEVENT
DTSTART;VALUE=DATE:20260328
DTEND;VALUE=DATE:20260330
DTSTAMP:20260420T011629
CREATED:20260113T155916Z
LAST-MODIFIED:20260113T155916Z
UID:3990-1774656000-1774828799@caipianezza.it
SUMMARY:Week End Bourg St. Pierre - Svizzera
DESCRIPTION:Le gite verranno definite e comunicate successivamente \nDifficoltà: BS \nDislivello: circa 1.100 – 1.200 m \nMateriale: ARTVA\, pala\, sonda\, rampant \nRitrovo: da definire \nLocalità di partenza: Bourg St. Pierre (Svizzera) \nDescrizione: due giorni di gite nella Val d’Entremont\, sul versante svizzero del Gran San Bernardo. Dormiremo a Bourg St. Pierre in una confortevole struttura raggiungibile in auto e che sarà a nostra completa disposizione in modalità autogestione\, ovvero provvederemo noi stessi a cucinarci le cene approfittando la cucina totalmente attrezzata per gruppi numerosi. Da qui le possibilità di gite sono numerose e sceglieremo al momento in base alle condizioni neve e meteo.
URL:https://caipianezza.it/evento/week-end-bourg-st-pierre-svizzera/
CATEGORIES:Sci Alpinismo
END:VEVENT
BEGIN:VEVENT
DTSTART;VALUE=DATE:20260419
DTEND;VALUE=DATE:20260420
DTSTAMP:20260420T011630
CREATED:20260113T160155Z
LAST-MODIFIED:20260113T160155Z
UID:3992-1776556800-1776643199@caipianezza.it
SUMMARY:Monte Meidassa
DESCRIPTION:Difficoltà: BS\nQuota vetta: 3.105 m\nDislivello: 1.391 m\nMateriale: ARTVA\, pala\, sonda\, rampant \nRitrovo: da definire \nDescrizione: dal Pian della Regina si raggiunge il Pian del Re e si prosegue sul fondovalle; alternando tratti a pendenza sostenuta ad altri più pianeggianti si arriva ad una vecchia casermetta (2.802 m); da qui si piega a destra in direzione del Colle Luisas (3.025m)\, da dove in pochi minuti si raggiunge la panoramica cima.
URL:https://caipianezza.it/evento/monte-meidassa/
LOCATION:Pian della Regina\, Crissolo (CN)
CATEGORIES:Sci Alpinismo
END:VEVENT
BEGIN:VEVENT
DTSTART;VALUE=DATE:20260501
DTEND;VALUE=DATE:20260504
DTSTAMP:20260420T011630
CREATED:20260115T215258Z
LAST-MODIFIED:20260115T231402Z
UID:4031-1777593600-1777852799@caipianezza.it
SUMMARY:Strahlhorn e Allalinhorn
DESCRIPTION:Week-end lungo in Svizzera nella valle di Saas Fee\, al cospetto di molti dei 4.000 m delle alpi Svizzere. Pernotteremo alla Britannia Hutte\, che si raggiunge in circa 40 minuti dall’arrivo della funivia Felskinn. Il programma prevede le salite allo Strahlhorn e all’Allalinhorn\, due cime abbastanza facili ma che garantiscono un ambiente veramente grandioso. \n  \n Strahlhorn \nDifficoltà: BSA\nQuota vetta: 4.190 m\nDislivello: 1.350 m\nMateriale: ARTVA\, pala\, sonda\, rampant\, ramponi\, imbrago \nDescrizione: dalla Britannia Hutte si scende di circa 100 metri per raggiungere l’Allalingletscher. Da qui si risale interamente il lunghissimo ghiacciaio su pendenze sempre abbastanza moderate fino a raggiungere l’Adler Pass dove si piega verso sinistra proseguendo su una ampia dorsale che si segue fino in vetta. Gli ultimi 20 metri sono su una crestina facile ma un po’ esposta e si percorrono a piedi. \n  \nAllalinhorn \nDifficoltà: BSA\nQuota vetta: 4.027 m\nDislivello: 1.100 m\nMateriale: ARTVA\, pala\, sonda\, rampant\, ramponi\, imbrago \nDescrizione: Dalla Britannia Hutte si ritorna all’arrivo del Fellskin e con un lungo traverso si raggiungono le piste di sci estivo. Si risale quindi l’ampio ghiacciaio che presenta alcuni tratti abbastanza crepacciati e che culmina al Feejoch. Da qui si piega a sinistra e si prosegue affrontando un pendio un po’ più ripido che porta a breve distanza dalla vetta\, che si raggiunge con un breve tratto a piedi.
URL:https://caipianezza.it/evento/strahlhorn-e-allalinhorn/
LOCATION:Saas Fee (Svizzera)
CATEGORIES:Sci Alpinismo
END:VEVENT
BEGIN:VEVENT
DTSTART;VALUE=DATE:20260517
DTEND;VALUE=DATE:20260518
DTSTAMP:20260420T011630
CREATED:20260126T215956Z
LAST-MODIFIED:20260126T215956Z
UID:4152-1778976000-1779062399@caipianezza.it
SUMMARY:Testa del Coin
DESCRIPTION:Difficoltà: BS\nQuota vetta: 3.019 m\nDislivello: 1.030 m\nMateriale: ARTVA\, pala\, sonda\, rampant \nRitrovo: da definire \nDescrizione: Dal ponte all’imbocco del Vallone d’Almiane si risale sul fondo del vallone che di solito è innevato fino a stagione avanzata. Dopo il primo tratto abbastanza stretto il vallone si apre e si risale su dolci pendii fino a quota 2.500 m circa. Da qui si piega decisamente a destra e si risale un ripido pendio al termine del quale in pochi minuti si raggiunge la vetta.
URL:https://caipianezza.it/evento/testa-del-coin-3/
LOCATION:Bardonecchia (TO)\, Bardonecchia\, Italia
CATEGORIES:Sci Alpinismo
END:VEVENT
END:VCALENDAR