BEGIN:VCALENDAR
VERSION:2.0
PRODID:-//Club Alpino Italiano - Sezione di Pianezza - ECPv6.2.4//NONSGML v1.0//EN
CALSCALE:GREGORIAN
METHOD:PUBLISH
X-WR-CALNAME:Club Alpino Italiano - Sezione di Pianezza
X-ORIGINAL-URL:https://caipianezza.it
X-WR-CALDESC:Eventi per Club Alpino Italiano - Sezione di Pianezza
REFRESH-INTERVAL;VALUE=DURATION:PT1H
X-Robots-Tag:noindex
X-PUBLISHED-TTL:PT1H
BEGIN:VTIMEZONE
TZID:Europe/Rome
BEGIN:DAYLIGHT
TZOFFSETFROM:+0100
TZOFFSETTO:+0200
TZNAME:CEST
DTSTART:20240331T010000
END:DAYLIGHT
BEGIN:STANDARD
TZOFFSETFROM:+0200
TZOFFSETTO:+0100
TZNAME:CET
DTSTART:20241027T010000
END:STANDARD
END:VTIMEZONE
BEGIN:VEVENT
DTSTART;VALUE=DATE:20240413
DTEND;VALUE=DATE:20240414
DTSTAMP:20260421T011007
CREATED:20231129T234150Z
LAST-MODIFIED:20231201T225651Z
UID:2147-1712966400-1713052799@caipianezza.it
SUMMARY:Roisetta
DESCRIPTION:Ritrovo: da definire\nDifficoltà: BS\nQuota vetta: 3324 m\nDislivello: 1284 m\nMateriale: ARTVA\, pala\, sonda\, rampant\, ramponi\nDescrizione: una gita classica della Valtournenche con uno stupendo panorama sul Cervino e sul Rosa
URL:https://caipianezza.it/evento/roisetta/
LOCATION:Cheneil (AO)
CATEGORIES:Sci Alpinismo
END:VEVENT
END:VCALENDAR