BEGIN:VCALENDAR
VERSION:2.0
PRODID:-//Club Alpino Italiano - Sezione di Pianezza - ECPv6.2.4//NONSGML v1.0//EN
CALSCALE:GREGORIAN
METHOD:PUBLISH
X-ORIGINAL-URL:https://caipianezza.it
X-WR-CALDESC:Eventi per Club Alpino Italiano - Sezione di Pianezza
REFRESH-INTERVAL;VALUE=DURATION:PT1H
X-Robots-Tag:noindex
X-PUBLISHED-TTL:PT1H
BEGIN:VTIMEZONE
TZID:Europe/Rome
BEGIN:DAYLIGHT
TZOFFSETFROM:+0100
TZOFFSETTO:+0200
TZNAME:CEST
DTSTART:20250330T010000
END:DAYLIGHT
BEGIN:STANDARD
TZOFFSETFROM:+0200
TZOFFSETTO:+0100
TZNAME:CET
DTSTART:20251026T010000
END:STANDARD
BEGIN:DAYLIGHT
TZOFFSETFROM:+0100
TZOFFSETTO:+0200
TZNAME:CEST
DTSTART:20260329T010000
END:DAYLIGHT
BEGIN:STANDARD
TZOFFSETFROM:+0200
TZOFFSETTO:+0100
TZNAME:CET
DTSTART:20261025T010000
END:STANDARD
END:VTIMEZONE
BEGIN:VEVENT
DTSTART;VALUE=DATE:20251026
DTEND;VALUE=DATE:20251027
DTSTAMP:20260421T131618
CREATED:20250216T220634Z
LAST-MODIFIED:20251024T093240Z
UID:3359-1761436800-1761523199@caipianezza.it
SUMMARY:Ferrata della Sacra
DESCRIPTION:Dislivello: 600 m\nRitrovo: sede CAI ore 9 oppure alla partenza della ferrata ore 9.40.\nDescrizione: La Ferrata Carlo Giorda alla Abbazia della Sacra di San Michele si snoda sul versante nord del Monte Pirchiriano. La ferrata è lunga ma mai difficile\, piacevole e varia nel suo susseguirsi di balze rocciose. Ci sono due nuovi ponti sospesi\, di cui il primo è particolarmente lungo e adrenalinico. \nMateriale: set da ferrata\, caschetto\nLocalità di partenza: S. Ambrogio \nContatti: Gianfranco Contin gfcontin@gmail.com ; Guido Pettovello guyfriul@alice.it
URL:https://caipianezza.it/evento/ferrata-di-novalesa/
CATEGORIES:Via ferrata
END:VEVENT
BEGIN:VEVENT
DTSTART;TZID=Europe/Rome:20260514T210000
DTEND;TZID=Europe/Rome:20260514T230000
DTSTAMP:20260421T131618
CREATED:20260402T131343Z
LAST-MODIFIED:20260417T215952Z
UID:4341-1778792400-1778799600@caipianezza.it
SUMMARY:Invito alla Ferrata
DESCRIPTION:14 maggio 2026 Ore 21:00\nSerata teorica tenuta a cura di Giorgio Gambelli\, Istruttore Nazionale Alpinismo (INA)\nSede CAI Pianezza – Via Moncenisio 1\nIngresso libero\, ore 21:00 \nUscite in ferrata\, difficoltà media e facile\n23 maggio (accompagnamento INA)\n6 giugno (accompagnamento INA)\n12 settembre \nOrganizzatori: Luca Ferrero nuovaceiba@gmail.com\, Simone Gili d3sirio@gmail.com\, Gianfranco Contin gfcontin@gmail.com\, Guido Pettovello guyfriul@alice.it
URL:https://caipianezza.it/evento/invito-alla-ferrata/
LOCATION:CAI Pianezza\, Via Moncenisio 1\, Pianezza\, 10044\, Italia
CATEGORIES:Attività sociali,Via ferrata
END:VEVENT
BEGIN:VEVENT
DTSTART;VALUE=DATE:20260523
DTEND;VALUE=DATE:20260524
DTSTAMP:20260421T131618
CREATED:20260116T224038Z
LAST-MODIFIED:20260417T220340Z
UID:4095-1779494400-1779580799@caipianezza.it
SUMMARY:Invito alla ferrata 1
DESCRIPTION:14 maggio 2026 Ore 21:00\nSerata teorica tenuta a cura di Giorgio Gambelli\, Istruttore Nazionale Alpinismo (INA)\nSede CAI Pianezza – Via Moncenisio 1\nIngresso libero\, ore 21:00 \nUscite in ferrata\, difficoltà media e facile\n23 maggio (accompagnamento INA)\n6 giugno (accompagnamento INA)\n12 settembre \nOrganizzatori: Luca Ferrero nuovaceiba@gmail.com\, Simone Gili d3sirio@gmail.com\, Gianfranco Contin gfcontin@gmail.com\, Guido Pettovello guyfriul@alice.it \n 
URL:https://caipianezza.it/evento/invito-alla-ferrata-1-caprie/
CATEGORIES:Via ferrata
END:VEVENT
BEGIN:VEVENT
DTSTART;VALUE=DATE:20260606
DTEND;VALUE=DATE:20260607
DTSTAMP:20260421T131618
CREATED:20260116T224239Z
LAST-MODIFIED:20260417T220647Z
UID:4098-1780704000-1780790399@caipianezza.it
SUMMARY:Invito alla ferrata 2 – PD
DESCRIPTION:14 maggio 2026 Ore 21:00\nSerata teorica tenuta a cura di Giorgio Gambelli\, Istruttore Nazionale Alpinismo (INA)\nSede CAI Pianezza – Via Moncenisio 1\nIngresso libero\, ore 21:00 \nUscite in ferrata\, difficoltà media e facile\n23 maggio (accompagnamento INA)\n6 giugno (accompagnamento INA)\n12 settembre \nOrganizzatori: Luca Ferrero nuovaceiba@gmail.com\, Simone Gili d3sirio@gmail.com\, Gianfranco Contin gfcontin@gmail.com\, Guido Pettovello guyfriul@alice.it
URL:https://caipianezza.it/evento/invito-alla-ferrata-2-pd/
CATEGORIES:Via ferrata
END:VEVENT
BEGIN:VEVENT
DTSTART;VALUE=DATE:20260927
DTEND;VALUE=DATE:20260928
DTSTAMP:20260421T131618
CREATED:20260318T223740Z
LAST-MODIFIED:20260318T223740Z
UID:4283-1790467200-1790553599@caipianezza.it
SUMMARY:Invito alla ferrata 3 –  PD
DESCRIPTION:Organizzatori: Luca Ferrero nuovaceiba@gmail.com\, Simone Gili d3sirio@gmail.com\, Gianfranco Contin gfcontin@gmail.com\, Guido Pettovello guyfriul@alice.it \nDifficoltà: PD\nQuota partenza: m\nQuota vetta: m\nDislivello: m\nRitrovo: da definire \nDescrizione: \nMateriale: da ferrata\nLocalità di partenza:
URL:https://caipianezza.it/evento/invito-alla-ferrata-3-pd/
CATEGORIES:Via ferrata
END:VEVENT
END:VCALENDAR