BEGIN:VCALENDAR
VERSION:2.0
PRODID:-//Club Alpino Italiano - Sezione di Pianezza - ECPv6.2.4//NONSGML v1.0//EN
CALSCALE:GREGORIAN
METHOD:PUBLISH
X-WR-CALNAME:Club Alpino Italiano - Sezione di Pianezza
X-ORIGINAL-URL:https://caipianezza.it
X-WR-CALDESC:Eventi per Club Alpino Italiano - Sezione di Pianezza
REFRESH-INTERVAL;VALUE=DURATION:PT1H
X-Robots-Tag:noindex
X-PUBLISHED-TTL:PT1H
BEGIN:VTIMEZONE
TZID:Europe/Rome
BEGIN:DAYLIGHT
TZOFFSETFROM:+0100
TZOFFSETTO:+0200
TZNAME:CEST
DTSTART:20230326T010000
END:DAYLIGHT
BEGIN:STANDARD
TZOFFSETFROM:+0200
TZOFFSETTO:+0100
TZNAME:CET
DTSTART:20231029T010000
END:STANDARD
END:VTIMEZONE
BEGIN:VEVENT
DTSTART;VALUE=DATE:20231119
DTEND;VALUE=DATE:20231120
DTSTAMP:20260423T212625
CREATED:20230920T145541Z
LAST-MODIFIED:20231008T125156Z
UID:1996-1700352000-1700438399@caipianezza.it
SUMMARY:Pranzo Sociale
DESCRIPTION:Tradizionale pranzo annuale della Sezione\, che quest’anno si terrà presso l’ Agriturismo “Cascina Parisio” Strada per Mattie\, 2 bis – Susa \nLocandina_Pranzo Sociale
URL:https://caipianezza.it/evento/pranzo-sociale/
LOCATION:Agriturismo “Cascina Parisio”\, Strada per Mattie 2\, Susa\, Italia
CATEGORIES:Attività sociali
END:VEVENT
BEGIN:VEVENT
DTSTART;VALUE=DATE:20231123
DTEND;VALUE=DATE:20231124
DTSTAMP:20260423T212625
CREATED:20231022T195852Z
LAST-MODIFIED:20231116T120807Z
UID:2039-1700697600-1700783999@caipianezza.it
SUMMARY:"Artico" A cura del fotografo Davide Pianezze
DESCRIPTION:In questa serata il fotografo Davide Pianezze ci porterà con immagini e suoni fra i ghiacci artici:  Lo scricchiolio del pack che si spezza al passaggio della prua della rompighiaccio\, le apparizioni mistiche degli orsi bianchi\, le cime innevate dello Spitsbergen a 900 km dal Polo Nord. Un ambiente severo e ostile che riporta alla memoria le avventure di esploratori che a fine Ottocento raggiungevano queste latitudini con ogni mezzo. \nOre 21.15 \nIngresso libero \n 
URL:https://caipianezza.it/evento/artico-acura-del-fotografo-davide-pianezze/
LOCATION:CAI Pianezza\, Via Moncenisio 1\, Pianezza\, 10044\, Italia
CATEGORIES:Attività sociali
END:VEVENT
BEGIN:VEVENT
DTSTART;VALUE=DATE:20231130
DTEND;VALUE=DATE:20231201
DTSTAMP:20260423T212625
CREATED:20230125T151115Z
LAST-MODIFIED:20231029T171328Z
UID:1177-1701302400-1701388799@caipianezza.it
SUMMARY:Serata Aquilotti
DESCRIPTION:Premiazione dei Soci venticinquennali.\nSeguirà la  premiazione dei vincitori del Concorso Fotografico\, con proiezione delle foto in gara.\nAl termine  piccolo rinfresco.\nOre 21.15 \n 
URL:https://caipianezza.it/evento/serata-aquilotti-e-concorso-fotografico/
LOCATION:CAI Pianezza\, Via Moncenisio 1\, Pianezza\, 10044\, Italia
CATEGORIES:Attività sociali
END:VEVENT
END:VCALENDAR