BEGIN:VCALENDAR
VERSION:2.0
PRODID:-//Club Alpino Italiano - Sezione di Pianezza - ECPv6.2.4//NONSGML v1.0//EN
CALSCALE:GREGORIAN
METHOD:PUBLISH
X-ORIGINAL-URL:https://caipianezza.it
X-WR-CALDESC:Eventi per Club Alpino Italiano - Sezione di Pianezza
REFRESH-INTERVAL;VALUE=DURATION:PT1H
X-Robots-Tag:noindex
X-PUBLISHED-TTL:PT1H
BEGIN:VTIMEZONE
TZID:Europe/Rome
BEGIN:DAYLIGHT
TZOFFSETFROM:+0100
TZOFFSETTO:+0200
TZNAME:CEST
DTSTART:20240331T010000
END:DAYLIGHT
BEGIN:STANDARD
TZOFFSETFROM:+0200
TZOFFSETTO:+0100
TZNAME:CET
DTSTART:20241027T010000
END:STANDARD
END:VTIMEZONE
BEGIN:VEVENT
DTSTART;VALUE=DATE:20240113
DTEND;VALUE=DATE:20240114
DTSTAMP:20260423T171731
CREATED:20231129T230109Z
LAST-MODIFIED:20240111T231431Z
UID:2125-1705104000-1705190399@caipianezza.it
SUMMARY:Pic Blanc du Galibier (colletto q. 2795 m)
DESCRIPTION:Ritrovo: \nore 7.00: parcheggio del supermercato EUROSPAR di Villardora lungo la SS24 ad Almese (uscita Avigliana OVEST)\nlink Google Maps: https://maps.app.goo.gl/3dLzxHjx82KMxucDA \nore 9.00: curvone a quota 1985 m lungo la strada del Lautaret circa 1\,7 km prima del passo\ncoordinate GPS: 45.042775\, 6.417389\nlink Google Maps: https://maps.app.goo.gl/udGtkbW4p26cVbbq7 \nDifficoltà: MS (BS per la punta)\nQuota vetta: 2795 m (2955 m per la punta)\nDislivello: 810 m (970 m per la punta)\nMateriale: ARTVA\, pala\, sonda\, rampant\nDescrizione: ad inizio stagione proponiamo gite semplici\, adatte ai principianti\, sperando che la farina ci permetta una bella sciata. La nostra meta offre dei bellissimi panorami \nIscrizioni: via mail\, whatsapp o telefono direttamente ai capigita entro venerdi ore 13
URL:https://caipianezza.it/evento/monte-paglietta-2/
LOCATION:Col du Lautaret (F)
CATEGORIES:Sci Alpinismo
END:VEVENT
BEGIN:VEVENT
DTSTART;VALUE=DATE:20240125
DTEND;VALUE=DATE:20240126
DTSTAMP:20260423T171731
CREATED:20231228T215211Z
LAST-MODIFIED:20240121T174242Z
UID:2228-1706140800-1706227199@caipianezza.it
SUMMARY:Pamir: La tero che gacia la stelo (La terra che guarda le stelle)
DESCRIPTION:Serata a cura di Valter Perlino e del gruppo Caravanserai: Viaggio ciclo alpinistico in Pakistan- Xinjiang cinese- Tagjkistan- Afghanistan.  La traduzione dell’occitano del titolo è: Pamir: La terra che guarda le stelle!!\nUn viaggio di cicloalpinismo in quattro paesi dell’Asia Centrale attraversando il Baltistan pakistano\, lo Xinijiang cinese\, il Pamir tajiko fino al mitico Wakhan Corridor afgano. Siamo sull’antica Via della Seta. Là dove il dato storico-geografico racconta di strade ed incontri\, l’umana percezione ora pone frontiere ed invalicabili confini. La nostra sfida è questa: voler incontrare genti\, conoscere realtà differenti e attraversare frontiere\, peregrini in terre straniere. Ripercorrere sentieri polverosi ed antichi in periferie del mondo esattamente uguali a quelle viste e raccontate da Marco Polo che passò di qui sette secoli or sono. Ciò che ci spinge è una sana curiosità\, un sogno visionario\, non certo il desiderio di stupire gli altri\, ma di realizzare i propri sogni di viaggiatore.
URL:https://caipianezza.it/evento/caravanserai-pamir-la-tero-che-gacia-la-stelo/
LOCATION:CAI Pianezza\, Via Moncenisio 1\, Pianezza\, 10044\, Italia
CATEGORIES:Attività sociali
END:VEVENT
BEGIN:VEVENT
DTSTART;VALUE=DATE:20240127
DTEND;VALUE=DATE:20240128
DTSTAMP:20260423T171731
CREATED:20240103T224444Z
LAST-MODIFIED:20240116T223618Z
UID:2272-1706313600-1706399999@caipianezza.it
SUMMARY:Passeggiata\, Luna piena e cena al rifugio Roccasella
DESCRIPTION:Ritrovo: ore 15 sede CAI; ore 16 Celle (posteggio rifugio Roccasella) \nCena a prezzo fisso 28€\nè necessario prenotare entro giovedì 25 gennaio versando una caparra di 10€ \nContatti per l’adesione: alberto.lovera.2009@gmail.com\, luca.pochettino@gmail.com \nper versare la caparra:\n– in sede cai\n– bonifico\n– Satispay \nDescrizione:\nPrima della cena al rifugio Roccasella il programma prevede una passeggiata a Roccasella (se le condizioni permettono\, altrimenti al colle Arponetto).\nAl tramonto\, cui seguirà poco dopo il sorgere della Luna\, si scende per rientrare al rifugio a cena. \nQuota partenza: m 1000\nQuota vetta: m 1508\nDislivello: m 508 \nMateriale: ARTVA\, pala\, sonda\, ciaspole\, ramponcini\, pila frontale\nLocalità di partenza: Rifugio Roccasella
URL:https://caipianezza.it/evento/cena-al-rifugio-roccasella/
CATEGORIES:Escursionismo,Racchette da neve
END:VEVENT
BEGIN:VEVENT
DTSTART;VALUE=DATE:20240128
DTEND;VALUE=DATE:20240129
DTSTAMP:20260423T171731
CREATED:20231129T230608Z
LAST-MODIFIED:20240126T180009Z
UID:2128-1706400000-1706486399@caipianezza.it
SUMMARY:Col des Beraudes
DESCRIPTION:Ritrovo: ore 7.00: parcheggio del supermercato EUROSPAR di Villardora lungo la statale SS24 ad Almese (uscita Avigliana Ovest)\nlink Google Maps: https://maps.app.goo.gl/3dLzxHjx82KMxucDA \nore 9.00: parcheggio a Pont de l’Alp (sopra al villaggio Le Lauzet) lungo la strada del Lautaret\ncoordinate GPS: 45.018712\, 6.464915\nlink Google Maps: https://maps.app.goo.gl/FV4rTY6eRNdUmn54A \nDifficoltà: MS (BS per la punta)\nQuota colle: 2770 m (2895 la punta)\nDislivello: 1050 m (1175 per la punta)\nMateriale: ARTVA\, pala\, sonda\, rampant\nDescrizione: anche per la seconda gita\, viste le condizioni della neve\, andiamo nella zona del colle del Lautaret \nIscrizioni: direttamente ai capigita entro sabato ore 13
URL:https://caipianezza.it/evento/rocca-bianca/
LOCATION:Pont de l’Alp (F)
CATEGORIES:Sci Alpinismo
END:VEVENT
END:VCALENDAR