BEGIN:VCALENDAR
VERSION:2.0
PRODID:-//Club Alpino Italiano - Sezione di Pianezza - ECPv6.2.4//NONSGML v1.0//EN
CALSCALE:GREGORIAN
METHOD:PUBLISH
X-ORIGINAL-URL:https://caipianezza.it
X-WR-CALDESC:Eventi per Club Alpino Italiano - Sezione di Pianezza
REFRESH-INTERVAL;VALUE=DURATION:PT1H
X-Robots-Tag:noindex
X-PUBLISHED-TTL:PT1H
BEGIN:VTIMEZONE
TZID:Europe/Rome
BEGIN:DAYLIGHT
TZOFFSETFROM:+0100
TZOFFSETTO:+0200
TZNAME:CEST
DTSTART:20240331T010000
END:DAYLIGHT
BEGIN:STANDARD
TZOFFSETFROM:+0200
TZOFFSETTO:+0100
TZNAME:CET
DTSTART:20241027T010000
END:STANDARD
END:VTIMEZONE
BEGIN:VEVENT
DTSTART;VALUE=DATE:20240307
DTEND;VALUE=DATE:20240308
DTSTAMP:20260423T125440
CREATED:20240216T105328Z
LAST-MODIFIED:20240216T105328Z
UID:2456-1709769600-1709855999@caipianezza.it
SUMMARY:Presentazione della settimana escursionistica autunnale a cura di Giovanni Gili
DESCRIPTION:Ingresso libero. Ore 21:15
URL:https://caipianezza.it/evento/presentazione-della-settimana-escursionistica-autunnale-a-cura-di-giovanni-gili/
LOCATION:CAI Pianezza\, Via Moncenisio 1\, Pianezza\, 10044\, Italia
CATEGORIES:Attività sociali
END:VEVENT
BEGIN:VEVENT
DTSTART;VALUE=DATE:20240316
DTEND;VALUE=DATE:20240317
DTSTAMP:20260423T125440
CREATED:20240307T133932Z
LAST-MODIFIED:20240307T134059Z
UID:2501-1710547200-1710633599@caipianezza.it
SUMMARY:Anello dei laghi di Avigliana
DESCRIPTION:Escursione CAI Intersezionale \, adatta a tutti nella zona dei Laghi di Avigliana e alla scoperta di Roc\, Pere e dei Picapere… \nLocandina 
URL:https://caipianezza.it/evento/anello-dei-laghi-di-avigliana/
CATEGORIES:Escursionismo
END:VEVENT
BEGIN:VEVENT
DTSTART;VALUE=DATE:20240317
DTEND;VALUE=DATE:20240318
DTSTAMP:20260423T125440
CREATED:20231130T002809Z
LAST-MODIFIED:20240313T213851Z
UID:2155-1710633600-1710719999@caipianezza.it
SUMMARY:Da Venaria a Lanzo
DESCRIPTION:Lunghezza: 50 km\nDislivello: 350 m\nDifficoltà: TC/MC\nDescrizione: da Venaria attraverseremo il Parco della Mandria fino alla Bizzarria\, quindi proseguiremo in direzione Nord sempre su sterrate e facili sentieri in leggera salita verso La Cassa\, Vallo Torinese e Monasterolo e infine con una breve discesa raggiungeremo il Ponte del Diavolo a Lanzo. Dopo una meritata sosta invertiremo la rotta e alternando tratti su comode piste ciclabili a divertenti single track lungo la Stura rientreremo a Venaria chiudendo l’anello. \nSCARICA QUI LA LOCANDINA \nLOCANDINA VENARIA GRAVEL
URL:https://caipianezza.it/evento/canavese-gita-gravel/
CATEGORIES:Mountain Bike
END:VEVENT
BEGIN:VEVENT
DTSTART;VALUE=DATE:20240321
DTEND;VALUE=DATE:20240322
DTSTAMP:20260423T125440
CREATED:20231228T222918Z
LAST-MODIFIED:20240312T165510Z
UID:2244-1710979200-1711065599@caipianezza.it
SUMMARY:"Scialpinismo" Dagli albori al terzo millennio\, a cura di Carlo Crovella
DESCRIPTION:Carlo\, già alcuni anni fa ospite della nostra Sezione\, ci presenta il suo libro\, che ha inaugurato la collana dedicata alla Storia dell’Alpinismo pubblicata dal Corriere della Sera \nIngresso libero ore 21.15
URL:https://caipianezza.it/evento/la-storia-dello-sci-alpinismo-a-cura-di-carlo-crovella/
LOCATION:CAI Pianezza\, Via Moncenisio 1\, Pianezza\, 10044\, Italia
CATEGORIES:Attività sociali
END:VEVENT
BEGIN:VEVENT
DTSTART;VALUE=DATE:20240324
DTEND;VALUE=DATE:20240325
DTSTAMP:20260423T125440
CREATED:20240119T222014Z
LAST-MODIFIED:20240229T104307Z
UID:2320-1711238400-1711324799@caipianezza.it
SUMMARY:Pralungo (La Cassa)
DESCRIPTION:Difficoltà: E\nDislivello: 120 m (sviluppo 10 Km)\nRitrovo: Sede CAI Pianezza ore 8\,30; rientro previsto ore 13-13\,30\nDescrizione: Più che di un’escursione\, si tratta di una passeggiata naturalistica\, dato il dislivello irrisorio (120 m) e la lunghezza non eccessiva (circa 10 km).\nL’anello\, con partenza e rientro dalla zona della Bizzarria (fra San Gillio e La Cassa) ci porterà a conoscere questa zona preparco della Mandria. Tutta l’area è caratterizzata dalla presenza di ampie zone a vocazione agricola alternate ad altre a carattere boschivo. La presenza di alcune grandi cascine è testimonianza di un glorioso ed interessante passato…\nL’itinerario si svolgerà principalmente su stradette campestri e su sentieri\, ma anche su tratti prativi o privi di sentiero. \nIn caso di maltempo l’escursione verrà recuperata in una domenica successiva \nMateriale: da escursionismo\nLocalità di partenza: La Bizzarria (fra San Gillio e La Cassa)\nContatti: Giovanni Gili gilig@libero.it
URL:https://caipianezza.it/evento/pralungo/
CATEGORIES:Escursionismo
END:VEVENT
BEGIN:VEVENT
DTSTART;VALUE=DATE:20240328
DTEND;VALUE=DATE:20240329
DTSTAMP:20260423T125440
CREATED:20231228T223648Z
LAST-MODIFIED:20240320T124350Z
UID:2249-1711584000-1711670399@caipianezza.it
SUMMARY:Assemblea generale della Sezione CAI di Pianezza con rinnovo del Consiglio Direttivo
DESCRIPTION:Si ricorda ai soci che in prima convocazione mercoledi 27 Marzo 2024 alle ore 12\,30 e in seconda convocazione GIOVEDÌ 28 MARZO 2024 alle ORE 21\,00\, presso la nostra sede (Via Moncenisio\, 1 -Pianezza)\, avrà luogo l’annuale assemblea sezionale cui potranno partecipare\, con diritto di voto\, tutti i soci ordinari\, familiari e juniores in regola con il tesseramento 2024.\nL’assemblea di quest’anno è particolarmente importante poichè\, oltre all’approvazione della relazione  del presidente e del bilancio consuntivo 2023 e preventivo 2024\, verranno effettuate le votazioni per il rinnovo totale degli organi direttivi e di controllo della sezione.\nSecondo le norme indicate dallo statuto sezionale\, si voterà pertanto per l’elezione dei 15 consiglieri che faranno parte del consiglio direttivo (al cui interno verranno nominate le cariche di presidente\, vicepresidente\, segreteria\, tesoriere\, revisori dei conti e consulente fiscale). Gli eletti resteranno in carica per i prossimi tre anni\, ovvero fino a fine marzo del 2027.\nSi ricorda che possono essere indicate sulla scheda elettorale fino ad un massimo di 4 preferenze\, pena l’annullamento della scheda. Inoltre può essere votato (apponendo il nuovo nome sulla scheda) qualunque socio sezionale\, anche se non precedentemente già candidato\, a patto che sia in regola con i criteri di eleggibilità (maggiorenne socio/socia della sezione e almeno al 2° anno di iscrizione).\nSi ricorda infine che ogni socio può portare una sola delega (e quindi rappresentare/votare per un altro socio\, purchè lo stesso sia\, come già indicato\, in regola con il tesseramento 2024). \nIl presidente\nLuca Borelli
URL:https://caipianezza.it/evento/assemblea-dei-soci-cai-iscritti-alla-sezione-di-pianezza/
LOCATION:CAI Pianezza\, Via Moncenisio 1\, Pianezza\, 10044\, Italia
CATEGORIES:Attività sociali
END:VEVENT
END:VCALENDAR