BEGIN:VCALENDAR
VERSION:2.0
PRODID:-//Club Alpino Italiano - Sezione di Pianezza - ECPv6.2.4//NONSGML v1.0//EN
CALSCALE:GREGORIAN
METHOD:PUBLISH
X-ORIGINAL-URL:https://caipianezza.it
X-WR-CALDESC:Eventi per Club Alpino Italiano - Sezione di Pianezza
REFRESH-INTERVAL;VALUE=DURATION:PT1H
X-Robots-Tag:noindex
X-PUBLISHED-TTL:PT1H
BEGIN:VTIMEZONE
TZID:Europe/Rome
BEGIN:DAYLIGHT
TZOFFSETFROM:+0100
TZOFFSETTO:+0200
TZNAME:CEST
DTSTART:20240331T010000
END:DAYLIGHT
BEGIN:STANDARD
TZOFFSETFROM:+0200
TZOFFSETTO:+0100
TZNAME:CET
DTSTART:20241027T010000
END:STANDARD
END:VTIMEZONE
BEGIN:VEVENT
DTSTART;VALUE=DATE:20240504
DTEND;VALUE=DATE:20240505
DTSTAMP:20260421T095010
CREATED:20240112T003940Z
LAST-MODIFIED:20240424T180957Z
UID:2306-1714780800-1714867199@caipianezza.it
SUMMARY:Aggiornamento manovre su roccia
DESCRIPTION:L’appuntamento è alle 9\,00 (8\,00 al Cai) alla falesia del Toupè ad un chilometro oltre l’abitato di Novalesa sulla strada per Moncenisio paese\, dove gli istruttori della nostra scuola Giorda ci rinfrescheranno la memoria su manovre e nodi per la nostra sicurezza durante la mattinata\, così al pomeriggio avremo modo di mettere in pratica gli insegnamenti sulla quarantina di vie della falesia( dal 3° al 7° grado). \nCome al solito noi porteremo solo le corde\, per cui chi necessita di attrezzature è pregato di passare in Sede al giovedì sera (2 maggio). \nTrasporti e pranzo al sacco a carico dei partecipanti. Uscita adatta a principianti\, arrugginiti\, curiosi ed esperti purchè muniti dell’obbligatoria attrezzatura(casco\, imbrago e scarpette). Rinvii e proprie corde sono sempre ben accettati. I minori devono essere accompagnati da un adulto. \nIn caso di pioggia l’uscita verrà annullata\, per cui…….occhio al meteo. \nPrenotazione entro giovedì 2 maggio in sede o via email o sms. \nOltre all’email il solito cell. 335/5948125 attivo dalle 7 del mattino. \nManlio Vineis (coordinatore arrampicata)
URL:https://caipianezza.it/evento/aggiornamento-manovre-su-roccia-2/
LOCATION:Falesia da definire
CATEGORIES:Alpinismo e Arrampicata
END:VEVENT
BEGIN:VEVENT
DTSTART;VALUE=DATE:20240509
DTEND;VALUE=DATE:20240510
DTSTAMP:20260421T095010
CREATED:20240423T195529Z
LAST-MODIFIED:20240502T134029Z
UID:2619-1715212800-1715299199@caipianezza.it
SUMMARY:Incontro : "Ho il diabete. Posso ancora andare in montagna?"
DESCRIPTION:Nel 2023 il CAI Pianezza ha avviato una collaborazione con l’associazione AGD Piemonte (Associazione per l’Aiuto al Giovane con Diabete)\, che prosegue anche quest’anno ed ha visto una ottima partecipazione dei ragazzi e delle loro famiglie. Il programma prevede escursioni in cui i ragazzi sono accompagnati da personale medico specializzato e volontari del CAI. Inoltre\, annualmente si organizza un incontro divulgativo (lo scorso anno si è svolto in Biblioteca)\, in cui si affrontano le tematiche legate ad un corretto svolgimento delle attività sportive (in montagna) con questi ragazzi\, cui sono invitate tutte le persone interessate. \nIl programma\, curato dal nostro socio Alberto Fiorentini\, quest’anno prevede una serata in sede ed i relatori saranno la Dott.ssa Michela Trada\, che tratterà la patologia diabetica. Diabete tipo 1 e Diabete tipo 2 e la Dott.ssa Cecilia Nobili che parlerà di Attività sportiva e diabete. Interverranno inoltre Viola e Lorenzo\, accompagnatori di alpinismo giovanile e tutor per ragazzi affetti da diabete tipo1 ed i nostri soci Alberto e Edoardo soci entrambi affetti da patologia diabetica\, che da anni svolgono un’intensa e qualificata attività alpinistica. \nIngresso libero\, ore 21.15
URL:https://caipianezza.it/evento/ho-il-diabete-posso-ancora-andare-in-montagna-a-cura-di-alberto-fiorentini/
LOCATION:CAI Pianezza\, Via Moncenisio 1\, Pianezza\, 10044\, Italia
CATEGORIES:Attività sociali
END:VEVENT
BEGIN:VEVENT
DTSTART;VALUE=DATE:20240511
DTEND;VALUE=DATE:20240512
DTSTAMP:20260421T095010
CREATED:20231130T003902Z
LAST-MODIFIED:20240509T102926Z
UID:2166-1715385600-1715471999@caipianezza.it
SUMMARY:Bosco dell'Impero e Monte Sette Confini
DESCRIPTION:Lunghezza: 31 km\nDislivello: 1.250 m\nDifficoltà: MC/BC \nDescrizione: Partendo da Cantalupa\, dopo alcuni Km su asfalto ci infileremo\nnel bosco e\, lungo strade sterrate\, raggiungeremo i Colli Infernetto ed\nEremita. Da qui percorreremo il Sentiero ”Ecomuseo le Carbonaie”. Il\nsentiero è caratterizzato da varie piazzole con tabelloni che spiegano\ncos’erano le carbonaie e dove vengono esemplificati i vari stadi della loro\npreparazione per la produzione del carbone\, un tempo preziosa risorsa\nlocale. Raggiunto il colle del Ciardonet proseguiremo verso il Crò e poi il\nmonte 7 Confini\, punto più alto dell’escursione.\nIn discesa percorreremo\, dalle sorgenti del Lemina al Colle Ciardonet\, il\nsentiero Manuele Bellasio\, intitolato al socio CAI Pinerolo tragicamente\nscomparso nel crollo del ponte Morandi a Genova.\nProseguiremo\, con una leggera risalita\, verso il rifugio Melano e con un\ndivertente single track ritorneremo a Cantalupa. \n 
URL:https://caipianezza.it/evento/bosco-dellimpero-e-monte-sette-confini/
CATEGORIES:Mountain Bike
END:VEVENT
BEGIN:VEVENT
DTSTART;VALUE=DATE:20240512
DTEND;VALUE=DATE:20240513
DTSTAMP:20260421T095010
CREATED:20240119T224031Z
LAST-MODIFIED:20240331T165151Z
UID:2332-1715472000-1715558399@caipianezza.it
SUMMARY:Glicemia in spalla – Oasi Zegna
DESCRIPTION:Ritrovo: Sede CAI ore 7:15\nLungo strada Oasi Zegna località Bocchetta Luvera ore 9:15 \nContatti per l’adesione: Alberto Fiorentini f.albike@gmail.com \nDescrizione:\nEscursione in collaborazione con la sezione CAI di Trivero (BI)\nEra uno dei possibili tracciati della strada panoramica\, ipotizzata da Ermenegildo Zegna\, di cui rimane il tracciolino.\nLa sua caratteristica è quella di svilupparsi per circa 8 km con andamento regolare tra i 1200 e i 1350 metri.\nSi parte poco più a valle di Bocchetto Luvera \, fino alla località Bocchetto Sessera.\nIl sentiero è tutto esposto a sud con ottima panoramica sulla pianura Biellese e Vercellese.\nIl percorso procede ora sul versante opposto\, si raggiunge alpe Monte Cerchio \, si prosegue su sentiero a nord che si affaccia sulla impervia valle Sessera \,si transita sotto l’ardita rocca dell’Argimonia\, mentre in lontananza ci accompagna sempre l’imponente gruppo del Monte Rosa\nIl rientro è previsto nella stessa località di partenza. \nQuota partenza: m 1200\nDislivello: m 350\nLunghezza percorso: km 16\nDifficoltà: E\nMateriale: da escursionismo\nLocalità di partenza: Bocchetta Luvera
URL:https://caipianezza.it/evento/glicemia-in-spalla-biellese/
CATEGORIES:Escursionismo
ORGANIZER;CN="A. Fiorentini":MAILTO:f.albike@gmail.com
END:VEVENT
BEGIN:VEVENT
DTSTART;VALUE=DATE:20240525
DTEND;VALUE=DATE:20240526
DTSTAMP:20260421T095010
CREATED:20240112T002548Z
LAST-MODIFIED:20240521T181129Z
UID:2302-1716595200-1716681599@caipianezza.it
SUMMARY:Vertical Rock
DESCRIPTION:Causa l’instabilità del meteo siamo costretti a riprogrammare la falesia di Scalaro/Quincinetto \nPertanto\, seguendo la scia di far conoscere nuove realtà\, andremo a Roc Botal a Villar Alto di Cumiana. Falesia adatta a neofiti\, arrugginiti ed esperti. \nLa falesia si presenta come un grande mammellone lisciato dai ghiacciai su cui si aprono una ventina di vie di placca dal 3° al 6° grado ma che hanno un buon grip di aderenza. \nCome al solito portiamo solo le corde per cui chi necessita di attrezzatura deve passare in sede giovedì 23 sera che è anche il termine ultimo per iscriversi. I minori devono essere accompagnati. Trasporti e pranzo al sacco a cura dei partecipanti. La falesia si raggiunge in 10 minuti di facile sentiero. \nIl ritrovo è per le ore 8 al Cai e per le 9 al parcheggio di Villar Alto(dal bivio per Cumiana verso il borgo ed alla prima rotonda girare a sinistra e seguire Villar Alto) \nCome sempre occhio al meteo. \nPer info sempre a Manlio Vineis (minervine17@gmail.com) o al cell. 335/5948125
URL:https://caipianezza.it/evento/vertical-rock-6/
LOCATION:Falesia da definire
CATEGORIES:Alpinismo e Arrampicata
ORGANIZER;CN="M. Vineis":MAILTO:minervine17@gmail.com
END:VEVENT
BEGIN:VEVENT
DTSTART;VALUE=DATE:20240526
DTEND;VALUE=DATE:20240527
DTSTAMP:20260421T095010
CREATED:20240119T222237Z
LAST-MODIFIED:20240420T223012Z
UID:2323-1716681600-1716767999@caipianezza.it
SUMMARY:Bra – Pollenzo
DESCRIPTION:Difficoltà: T\nDislivello: 120 m; sviluppo 12 Km\nRitrovo: Sede CAI Pianezza ore 8\nDescrizione: Anello con partenza e rientro a Bra\, che ci porterà a scoprire la piana del Tanaro e l’interessante borgo di Pollenzo\, di antiche origini romane (riconoscibile ancora l’anfiteatro nella struttura urbana).\nIl castello i Pollenzo\, di origini medievali\, subì nell’800 sostanziali interventi da parte di Carlo Alberto che vi costruì un’attigua grande struttura agricola\, ora sede dell’Università del Gusto e della Banca del Vino\, che avremo modo di visitare.\nL’itinerario si svolgerà principalmente su stradette campestri e strade secondarie\, più alcuni tratti su sentiero. Pranzo al sacco.\nMateriale: da escursionismo\nLocalità di partenza: Bra\nContatti: Giovanni Gili gilig@libero.it\, Renato Nozza renatonozza93@gmail.com
URL:https://caipianezza.it/evento/bra-pollenzo/
CATEGORIES:Escursionismo
END:VEVENT
END:VCALENDAR