BEGIN:VCALENDAR
VERSION:2.0
PRODID:-//Club Alpino Italiano - Sezione di Pianezza - ECPv6.2.4//NONSGML v1.0//EN
CALSCALE:GREGORIAN
METHOD:PUBLISH
X-ORIGINAL-URL:https://caipianezza.it
X-WR-CALDESC:Eventi per Club Alpino Italiano - Sezione di Pianezza
REFRESH-INTERVAL;VALUE=DURATION:PT1H
X-Robots-Tag:noindex
X-PUBLISHED-TTL:PT1H
BEGIN:VTIMEZONE
TZID:Europe/Rome
BEGIN:DAYLIGHT
TZOFFSETFROM:+0100
TZOFFSETTO:+0200
TZNAME:CEST
DTSTART:20240331T010000
END:DAYLIGHT
BEGIN:STANDARD
TZOFFSETFROM:+0200
TZOFFSETTO:+0100
TZNAME:CET
DTSTART:20241027T010000
END:STANDARD
END:VTIMEZONE
BEGIN:VEVENT
DTSTART;VALUE=DATE:20241010
DTEND;VALUE=DATE:20241011
DTSTAMP:20260420T220603
CREATED:20240525T161337Z
LAST-MODIFIED:20240913T115749Z
UID:2670-1728518400-1728604799@caipianezza.it
SUMMARY:Cinquant'anni di montagne
DESCRIPTION:In occasione del suo cinquantesimo “compleanno di montagna” il nostro socio Mario Alpinisti ci presenterà un video con le sue più significative salite . \n 
URL:https://caipianezza.it/evento/cinquanta-anni-di-montagne/
CATEGORIES:Attività sociali
END:VEVENT
BEGIN:VEVENT
DTSTART;VALUE=DATE:20241013
DTEND;VALUE=DATE:20241014
DTSTAMP:20260420T220603
CREATED:20231130T010828Z
LAST-MODIFIED:20241008T224139Z
UID:2185-1728777600-1728863999@caipianezza.it
SUMMARY:Colle Vaccera
DESCRIPTION:Lunghezza: 30 km\nDislivello: 1150 m\nDifficoltà: MC/BC \nDescrizione: da Luserna San Giovanni si sale quasi interamente su asfalto seguendo la piacevole e panoramica strada carrozzabile che ci porterà al Colle Vaccera. Da qui con un ultimo sforzo raggiungeremo la cima del Monte Castelletto da dove inizierà la lunga e divertente discesa. La prima parte segue la cresta Sud del Monte Castelletto ed è un po’ più tecnica ed impegnativa\, poi affronteremo il facile e scorrevole Cuccia Trail che ci riporterà a Luserna San Giovanni dove chiuderemo l’anello.
URL:https://caipianezza.it/evento/colle-vaccera/
CATEGORIES:Mountain Bike
END:VEVENT
BEGIN:VEVENT
DTSTART;VALUE=DATE:20241013
DTEND;VALUE=DATE:20241014
DTSTAMP:20260420T220603
CREATED:20240126T225608Z
LAST-MODIFIED:20240926T223207Z
UID:2382-1728777600-1728863999@caipianezza.it
SUMMARY:Clot di Mouton
DESCRIPTION:Difficoltà: E\nQuota partenza: 1421 m\nQuota vetta: 2262 m\nDislivello: 841 m\nRitrovo: sede CAI ore 7.30\nDescrizione: Un percorso panoramico e poco frequentato\, che stupirà per la sua bellezza.\nPartenza dal posteggio nei pressi del cimitero di Rodoretto; dopo la salita sul ripido fianco della montagna seguendo «lou viol de valter» percorreremo la cresta che separa il vallone di Salza dal vallone di Rodoretto.\nIn caso di condizioni favorevoli è possibile proseguire fino al colle della Balma (2427 m) e compiere un percorso ad anello.\nAl termine della gita merenda autogestita grazie ai contributi in cibo e bevande dei partecipanti\nMateriale: da escursionismo\nLocalità di partenza: Rodoretto (val Germanasca)\nContatti: Alberto Fiorentini f.albike@gmail.com\, Alberto Lovera alberto.lovera.2009@gmail.com
URL:https://caipianezza.it/evento/passo-delle-mangioire-laghi-bessanetto-e-crotas-rif-gastaldi/
CATEGORIES:Escursionismo
ORGANIZER;CN="A. Fiorentini":MAILTO:f.albike@gmail.com
END:VEVENT
BEGIN:VEVENT
DTSTART;VALUE=DATE:20241020
DTEND;VALUE=DATE:20241021
DTSTAMP:20260420T220603
CREATED:20240923T180306Z
LAST-MODIFIED:20241012T134129Z
UID:2924-1729382400-1729468799@caipianezza.it
SUMMARY:Castagnata
DESCRIPTION:Quest’anno la nostra tradizionale castagnata si terrà all’area attrezzata di Novalesa. \nhttps://maps.app.goo.gl/zXmEmc3FedVS1wDr6 \nIl programma completo sarà inviato a tutti i soci.
URL:https://caipianezza.it/evento/castagnata/
CATEGORIES:Attività sociali
END:VEVENT
BEGIN:VEVENT
DTSTART;VALUE=DATE:20241024
DTEND;VALUE=DATE:20241025
DTSTAMP:20260420T220603
CREATED:20240531T163440Z
LAST-MODIFIED:20240924T161134Z
UID:2698-1729728000-1729814399@caipianezza.it
SUMMARY:Serata Aquilotti e premiazione Concorso Fotografico
DESCRIPTION:Premiazione dei Soci venticinquennali.\nSeguirà la premiazione dei vincitori del Concorso Fotografico\, con proiezione delle foto in gara.\nAl termine piccolo rinfresco.
URL:https://caipianezza.it/evento/serata-aquilotti-e-premiazione-concorso-fotografico/
LOCATION:CAI Pianezza\, Via Moncenisio 1\, Pianezza\, 10044\, Italia
CATEGORIES:Attività sociali
END:VEVENT
BEGIN:VEVENT
DTSTART;VALUE=DATE:20241027
DTEND;VALUE=DATE:20241028
DTSTAMP:20260420T220603
CREATED:20231130T011040Z
LAST-MODIFIED:20240926T074011Z
UID:2189-1729987200-1730073599@caipianezza.it
SUMMARY:Langhe - gita Gravel
DESCRIPTION:Lunghezza: 50 km\nDislivello: 950 m\nDifficoltà: TC/MC \nDifficoltà: Bella e panoramica escursione particolarmente adatta alle biciclette Gravel sulle colline delle Langhe nelle terre del barolo\, il re dei vini piemontesi.\nDa Cherasco saliremo subito su asfalto a La Morra\, quindi con una continua alternanza di asfalto e sterrate e affrontando numerosi saliscendi su e giù per le colline toccheremo i paesi di Verduno\, Barolo e Novello da dove rientreremo a La Morra per tuffarci nell’ultima veloce discesa che ci riporterà a Cherasco dove chiuderemo l’anello.
URL:https://caipianezza.it/evento/langhe-gita-gravel/
LOCATION:Cherasco (CN)
CATEGORIES:Mountain Bike
END:VEVENT
END:VCALENDAR