BEGIN:VCALENDAR
VERSION:2.0
PRODID:-//Club Alpino Italiano - Sezione di Pianezza - ECPv6.2.4//NONSGML v1.0//EN
CALSCALE:GREGORIAN
METHOD:PUBLISH
X-WR-CALNAME:Club Alpino Italiano - Sezione di Pianezza
X-ORIGINAL-URL:https://caipianezza.it
X-WR-CALDESC:Eventi per Club Alpino Italiano - Sezione di Pianezza
REFRESH-INTERVAL;VALUE=DURATION:PT1H
X-Robots-Tag:noindex
X-PUBLISHED-TTL:PT1H
BEGIN:VTIMEZONE
TZID:Europe/Rome
BEGIN:DAYLIGHT
TZOFFSETFROM:+0100
TZOFFSETTO:+0200
TZNAME:CEST
DTSTART:20240331T010000
END:DAYLIGHT
BEGIN:STANDARD
TZOFFSETFROM:+0200
TZOFFSETTO:+0100
TZNAME:CET
DTSTART:20241027T010000
END:STANDARD
END:VTIMEZONE
BEGIN:VEVENT
DTSTART;VALUE=DATE:20241107
DTEND;VALUE=DATE:20241108
DTSTAMP:20260421T102807
CREATED:20240531T163037Z
LAST-MODIFIED:20241030T073853Z
UID:2696-1730937600-1731023999@caipianezza.it
SUMMARY:"Lupi e Orsi"
DESCRIPTION:Serata naturalistica a cura di Ezio Giuliano \nEzio Giuliano\, già nostro ospite lo scorso anno\, ci presenterà un documentario su lupi e orsi\, classificati come i più grandi carnivori d’Italia. Un documentario di grande attualità\, considerato l’ampio dibattito in corso in merito alla loro presenza sulle nostre montagne\, finalizzato a conoscere il loro comportamento in natura\, al di la dei pregiudizi e delle nostre ataviche paure. \nEzio Giuliano\, fotografo e filmmaker valsusino\, da oltre 40 anni segue e riprende la vita di tutti gli animali selvatici. Ha realizzato un documentario sulla fauna per il parco Orsiera-Rocciavré\, ha partecipato con il regista svizzero Thomas Horat alla produzione europea del film documentario “Il ritorno dei lupi” ed ha contribuito con immagini e video dei lupi italiani al documentario prodotto da Bernard Rabbe per la National Geographic (di prossima uscita). Ha inoltre pubblicato con la coautrice Mariarosa Ventura il libro “Il Guardiano dei lupi e altre storie”. \nIngresso libero\, ore 21:15 \n \n\n        		Aggiungi al tuo Calendario
URL:https://caipianezza.it/evento/cervi-lupi-e-orsi-serata-naturalistica-a-cura-di-ezio-giuliano/
LOCATION:CAI Pianezza\, Via Moncenisio 1\, Pianezza\, 10044\, Italia
CATEGORIES:Attività sociali
END:VEVENT
END:VCALENDAR