BEGIN:VCALENDAR
VERSION:2.0
PRODID:-//Club Alpino Italiano - Sezione di Pianezza - ECPv6.2.4//NONSGML v1.0//EN
CALSCALE:GREGORIAN
METHOD:PUBLISH
X-WR-CALNAME:Club Alpino Italiano - Sezione di Pianezza
X-ORIGINAL-URL:https://caipianezza.it
X-WR-CALDESC:Eventi per Club Alpino Italiano - Sezione di Pianezza
REFRESH-INTERVAL;VALUE=DURATION:PT1H
X-Robots-Tag:noindex
X-PUBLISHED-TTL:PT1H
BEGIN:VTIMEZONE
TZID:Europe/Rome
BEGIN:DAYLIGHT
TZOFFSETFROM:+0100
TZOFFSETTO:+0200
TZNAME:CEST
DTSTART:20240331T010000
END:DAYLIGHT
BEGIN:STANDARD
TZOFFSETFROM:+0200
TZOFFSETTO:+0100
TZNAME:CET
DTSTART:20241027T010000
END:STANDARD
END:VTIMEZONE
BEGIN:VEVENT
DTSTART;VALUE=DATE:20240414
DTEND;VALUE=DATE:20240415
DTSTAMP:20260419T193858
CREATED:20240119T223620Z
LAST-MODIFIED:20240331T165344Z
UID:2327-1713052800-1713139199@caipianezza.it
SUMMARY:Cima Bossola
DESCRIPTION:Difficoltà: E\nQuota partenza: 666m\nQuota vetta: 1509m\nDislivello: 843m\nRitrovo: sede CAI ore 7:45 oppure Rueglio ore 9:00\nDescrizione: Punta molto panoramica\, ideale per le stagioni intermedie\, in quanto completamente esposta a sud. Vista molto ampia\, dalle Marittime alle lontane montagne lombarde.\nPartendo da Rueglio in Val Chiusella a  666 m\, si procede su strada sterrata\, poi su sentiero e si attraversa una breve pietraia. Il sentiero prosegue poi sulla cresta\, passando per un colletto a quota 1410 m\, fino alla cima\, contraddistinta da una grande croce in legno.\nMateriale: da escursionismo\nLocalità di partenza: Val Chiusella\, Rueglio\nContatti: Elisabetta Prunello elisabettaprunello@alice.it; Laura Prunello laura.prunello@gmail.com \n\n        		Aggiungi al tuo Calendario
URL:https://caipianezza.it/evento/cima-bossola-2/
CATEGORIES:Escursionismo
END:VEVENT
END:VCALENDAR