BEGIN:VCALENDAR
VERSION:2.0
PRODID:-//Club Alpino Italiano - Sezione di Pianezza - ECPv6.2.4//NONSGML v1.0//EN
CALSCALE:GREGORIAN
METHOD:PUBLISH
X-WR-CALNAME:Club Alpino Italiano - Sezione di Pianezza
X-ORIGINAL-URL:https://caipianezza.it
X-WR-CALDESC:Eventi per Club Alpino Italiano - Sezione di Pianezza
REFRESH-INTERVAL;VALUE=DURATION:PT1H
X-Robots-Tag:noindex
X-PUBLISHED-TTL:PT1H
BEGIN:VTIMEZONE
TZID:Europe/Rome
BEGIN:DAYLIGHT
TZOFFSETFROM:+0100
TZOFFSETTO:+0200
TZNAME:CEST
DTSTART:20250330T010000
END:DAYLIGHT
BEGIN:STANDARD
TZOFFSETFROM:+0200
TZOFFSETTO:+0100
TZNAME:CET
DTSTART:20251026T010000
END:STANDARD
END:VTIMEZONE
BEGIN:VEVENT
DTSTART;VALUE=DATE:20250629
DTEND;VALUE=DATE:20250630
DTSTAMP:20260420T101334
CREATED:20250125T231339Z
LAST-MODIFIED:20250618T211918Z
UID:3274-1751155200-1751241599@caipianezza.it
SUMMARY:Cresta Col Porsel – Col Barant
DESCRIPTION:Difficoltà: EE\nQuota partenza: 1757m\nQuota vetta: 2373m\nDislivello: 650m\nRitrovo: 7:30 sede CAI; 9:30 rifugio Barbara\, inizio strada col Barant\nDescrizione: Il sentiero di cresta tra il col Porsel ed il col Barant è percorribile senza difficoltà e regala una via di accesso insolita (in parte ex mulattiera militare) verso il rifugio al col Barant. Partenza dal rifugio Barbara sulla carrozzabile verso il col Barant. Al pian delle Marmotte (quota 2100) si lascia la strada per raggiungere la mulattiera militare che conduce al col Porsel. Qui una traccia indicata da rari bollini rossi segue la linea di cresta (tenendosi poco più in basso) fino al col Barant. Se le condizioni di visibilità non consentono la via di cresta\, raggiungeremo il rifugio per la via classica.\nIl percorso non è esposto ma non è consigliabile a chi soffre di vertigini.\nChi non percorrerà la cresta potrà raggiungere il rifugio su sentieri limitrofi alla carrozzabile con la guida di Laura Bianco. \nMateriale: da escursionismo\nLocalità di partenza: rif. Barbara Lowrie\nContatti: alberto.lovera.2009@gmail.com\, luca.pochettino@gmail.com\, carloriccardo.borsani@fastwebnet.it\nOrganizzatori: Alberto Lovera\, Luca Pochettino\, Carlo Borsani\, Laura Bianco \n\n        		Aggiungi al tuo Calendario
URL:https://caipianezza.it/evento/cresta-col-porsel-col-barant-2/
CATEGORIES:Escursionismo
END:VEVENT
END:VCALENDAR