BEGIN:VCALENDAR
VERSION:2.0
PRODID:-//Club Alpino Italiano - Sezione di Pianezza - ECPv6.2.4//NONSGML v1.0//EN
CALSCALE:GREGORIAN
METHOD:PUBLISH
X-WR-CALNAME:Club Alpino Italiano - Sezione di Pianezza
X-ORIGINAL-URL:https://caipianezza.it
X-WR-CALDESC:Eventi per Club Alpino Italiano - Sezione di Pianezza
REFRESH-INTERVAL;VALUE=DURATION:PT1H
X-Robots-Tag:noindex
X-PUBLISHED-TTL:PT1H
BEGIN:VTIMEZONE
TZID:Europe/Rome
BEGIN:DAYLIGHT
TZOFFSETFROM:+0100
TZOFFSETTO:+0200
TZNAME:CEST
DTSTART:20250330T010000
END:DAYLIGHT
BEGIN:STANDARD
TZOFFSETFROM:+0200
TZOFFSETTO:+0100
TZNAME:CET
DTSTART:20251026T010000
END:STANDARD
END:VTIMEZONE
BEGIN:VEVENT
DTSTART;VALUE=DATE:20250907
DTEND;VALUE=DATE:20250908
DTSTAMP:20260420T112720
CREATED:20250125T234015Z
LAST-MODIFIED:20250828T212241Z
UID:3289-1757203200-1757289599@caipianezza.it
SUMMARY:Passi e parole
DESCRIPTION:Escursione a Rodoretto (Prali – Val Germanasca)\, ispirata al romanzo di Valeria Tron “L’equilibrio delle lucciole” \nIl programma della giornata prevede una breve escursione da Rodoretto\, la visita al museo etnografico “La meizoun de notri donn” e una “merenda letteraria”.\nLa visita al museo è gratuita (offerta libera) \nEscursione:\nBreve anello a Colle di Serrevecchio lungo il sentiero “Lou viol de Valter”\nLunghezza: 7Km e dislivello 600m\nDifficoltà: E con brevi tratti EE\nRitrovo: ore 9.30 nella piazza di Rodoretto \nIscrizioni: entro il 3 settembre presso:\nManlio Vineis minervine17@gmail.com\nFerdinando Genova fernando.genova@alice.it \nOrganizzazione: CAI Almese\nReferenti attività per informazioni:\nCHIARA DE RENZIO 338 3268492 chiara.derenzio@gmail.com\nLUCA MONTABONE 333 2334318 luca.montabone@gmail.com \n\n        		Aggiungi al tuo Calendario
URL:https://caipianezza.it/evento/passi-e-parole/
CATEGORIES:Escursionismo,Family CAI
END:VEVENT
END:VCALENDAR