BEGIN:VCALENDAR
VERSION:2.0
PRODID:-//Club Alpino Italiano - Sezione di Pianezza - ECPv6.2.4//NONSGML v1.0//EN
CALSCALE:GREGORIAN
METHOD:PUBLISH
X-WR-CALNAME:Club Alpino Italiano - Sezione di Pianezza
X-ORIGINAL-URL:https://caipianezza.it
X-WR-CALDESC:Eventi per Club Alpino Italiano - Sezione di Pianezza
REFRESH-INTERVAL;VALUE=DURATION:PT1H
X-Robots-Tag:noindex
X-PUBLISHED-TTL:PT1H
BEGIN:VTIMEZONE
TZID:Europe/Rome
BEGIN:DAYLIGHT
TZOFFSETFROM:+0100
TZOFFSETTO:+0200
TZNAME:CEST
DTSTART:20240331T010000
END:DAYLIGHT
BEGIN:STANDARD
TZOFFSETFROM:+0200
TZOFFSETTO:+0100
TZNAME:CET
DTSTART:20241027T010000
END:STANDARD
END:VTIMEZONE
BEGIN:VEVENT
DTSTART;VALUE=DATE:20240307
DTEND;VALUE=DATE:20240308
DTSTAMP:20260420T130815
CREATED:20240216T105328Z
LAST-MODIFIED:20240216T105328Z
UID:2456-1709769600-1709855999@caipianezza.it
SUMMARY:Presentazione della settimana escursionistica autunnale a cura di Giovanni Gili
DESCRIPTION:Ingresso libero. Ore 21:15 \n\n        		Aggiungi al tuo Calendario
URL:https://caipianezza.it/evento/presentazione-della-settimana-escursionistica-autunnale-a-cura-di-giovanni-gili/
LOCATION:CAI Pianezza\, Via Moncenisio 1\, Pianezza\, 10044\, Italia
CATEGORIES:Attività sociali
END:VEVENT
END:VCALENDAR