BEGIN:VCALENDAR
VERSION:2.0
PRODID:-//Club Alpino Italiano - Sezione di Pianezza - ECPv6.2.4//NONSGML v1.0//EN
CALSCALE:GREGORIAN
METHOD:PUBLISH
X-WR-CALNAME:Club Alpino Italiano - Sezione di Pianezza
X-ORIGINAL-URL:https://caipianezza.it
X-WR-CALDESC:Eventi per Club Alpino Italiano - Sezione di Pianezza
REFRESH-INTERVAL;VALUE=DURATION:PT1H
X-Robots-Tag:noindex
X-PUBLISHED-TTL:PT1H
BEGIN:VTIMEZONE
TZID:Europe/Rome
BEGIN:DAYLIGHT
TZOFFSETFROM:+0100
TZOFFSETTO:+0200
TZNAME:CEST
DTSTART:20250330T010000
END:DAYLIGHT
BEGIN:STANDARD
TZOFFSETFROM:+0200
TZOFFSETTO:+0100
TZNAME:CET
DTSTART:20251026T010000
END:STANDARD
END:VTIMEZONE
BEGIN:VEVENT
DTSTART;VALUE=DATE:20250621
DTEND;VALUE=DATE:20250622
DTSTAMP:20260420T102154
CREATED:20250216T215332Z
LAST-MODIFIED:20250528T101744Z
UID:3347-1750464000-1750550399@caipianezza.it
SUMMARY:Vertical Rock 2025 alla Parete dei fiori di Quincinetto
DESCRIPTION:Confidando nell’aumento del caldo saliamo in quota per sgranchirci le ossa su un’interessante falesia a quota 1850 con una ventina di monotiri dal 4° al 6°. La si raggiunge da Quincinetto salendo il vallone di Renacchio o Santa Maria sino alla frazione Scalaro. Non entrare alla frazione ma proseguire sulla sinistra la strada asfaltata ed al bivio successivo prendere quella di destra(stretta) in salita sino a passare l’ultima bergeria dove poco sopra termina l’asfalto e parcheggeremo le auto. La falesia\, con ottima roccia\, è appena sopra raggiungibile con 15 minuti di marcia(consigliate pedule o scarponcini). Essendo a quota 1800/1900 metri\, vestirsi adeguatamente. \nCome al solito noi portiamo le corde e chi ha attrezzatura propria è pregato di portarla. Per chi necessita di imbrago\, scarpette e casco è pregato di passare in sede il giovedì 19 sera. \nIl ritrovo alla sede è per le 7\,30 mentre chi viaggia per conto proprio è alle 8\,45 al cimitero di Quincinetto o alle 9\,15 al parcheggio della falesia e verso le 16/30-17 il rientro. Trasporto\, cibi e bevande a carico dei partecipanti. \nDovessero esserci nuvole a bassa quota\, nebbie e/o scarso maltempo in quota abbiamo l’alternativa della falesia di Montestrutto nel fondovalle con oltre 40 monotiri di tutte le difficoltà. \nIn caso di marcato maltempo\, anche il giorno prima\, l’uscita verrà annullata per cui………………occhio al meteo. Località adatta ad anziani e bambini\, neofiti ed esperti\, arrugginiti o semplici curiosi. I minori devono essere accompagnati da un adulto. Per chi non è del CAI Pianezza e non era presente la volta scorsa è pregato di portare la tessera Cai per la regolarità del tesseramento ai fini assicurativi. Prenotazione obbligatoria entro e non oltre il 19 giugno sera\, via email in sede o al cellulare indicato. \nVi aspettiamo numerosi……………….coordinatore Manlio Vineis \nPer info e altri ragguagli all’email(minervine17@gmail.com) o al cell. 335/5948125 ore serali \n  \n\n        		Aggiungi al tuo Calendario
URL:https://caipianezza.it/evento/vertical-rock-2025-3/
CATEGORIES:Alpinismo e Arrampicata
ORGANIZER;CN="M. Vineis":MAILTO:minervine17@gmail.com
END:VEVENT
END:VCALENDAR